BEGIN:VCALENDAR
VERSION:2.0
PRODID:-//ChamberMaster//Event Calendar 2.0//EN
METHOD:PUBLISH
X-PUBLISHED-TTL:P3D
REFRESH-INTERVAL:P3D
CALSCALE:GREGORIAN
BEGIN:VEVENT
DTSTART;VALUE=DATE:20240302
DTEND;VALUE=DATE:20240304
TRANSP:TRANSPARENT
X-MICROSOFT-CDO-ALLDAYEVENT:TRUE
SUMMARY:1st Annual Battle of the Paddle Pickleball Tournament and Fundraiser at the Gretna Crossing YMCA!
DESCRIPTION:Registration Opens February 1st-24th: \n\n    -Sign up in person at the Welcome Center at the Gretna Crossing YMCA. (both member and non-member)\n\n    -Hurry\, space is limited to only 6 teams per division!\n\n \n\nRules: \n\n    -Must be 16 years old to compete \n\n    -Each division begins with Round Robin-style play with the winner being the first team to 11 points (2 point \n\n    spread is not required. \n\n    -Teams will move to single elimination after initial seeding. \n\n\n\nDivisions:\n\n    -Men's\, Women's\, and Mixed teams\; Level 2.5-30 and Level 3.0-3.5 with each team guaranteed 5 games! \n\n\n\nSchedule: \n\n    March 2nd Mix Teams\n\n        -Level 2.5-3.0.........2:00 pm - 4:00 pm\n\n        -Level 3.0-3.5.........4:00 pm - 6:00 pm\n\n\n\n    March 3rd Men's and Women's Division\n\n        -Women's Level 2.5-3.0........8:30 am - 10:30 am\n\n        -Women's Level 3.0-3.5........10:30 am - 12:30 pm\n\n        -Men's Level 2.5-3.0.........1:00 pm - 3:00 pm\n\n        -Men's Level 3.0-3.5..........3:00 pm - 5:00 pm
X-ALT-DESC;FMTTYPE=text/html:<strong>Registration Opens February 1st-24th:&nbsp\;</strong><br />\n&nbsp\; &nbsp\; -Sign up in person at the Welcome Center at the Gretna Crossing YMCA. (both member and non-member)<br />\n&nbsp\; &nbsp\; -Hurry\, space is limited to only 6 teams per division!<br />\n&nbsp\;<br />\n<strong>Rules:&nbsp\;</strong><br />\n&nbsp\; &nbsp\; -Must be 16 years old to compete&nbsp\;<br />\n&nbsp\; &nbsp\; -Each division begins with Round Robin-style play with the winner being the first team to 11 points (2 point&nbsp\;<br />\n&nbsp\; &nbsp\; spread is not required.&nbsp\;<br />\n&nbsp\; &nbsp\; -Teams will move to single elimination after initial seeding.&nbsp\;<br />\n<br />\n<strong>Divisions:</strong><br />\n&nbsp\; &nbsp\; -Men&#39\;s\, Women&#39\;s\, and Mixed teams\; Level 2.5-30 and Level 3.0-3.5 with each team guaranteed 5 games!&nbsp\;<br />\n<br />\n<strong>Schedule:&nbsp\;</strong><br />\n&nbsp\; &nbsp\; March 2nd Mix Teams<br />\n&nbsp\; &nbsp\;&nbsp\;&nbsp\; &nbsp\; -Level 2.5-3.0.........2:00 pm - 4:00 pm<br />\n&nbsp\;&nbsp\;&nbsp\;&nbsp\;&nbsp\; &nbsp\; -Level 3.0-3.5.........4:00 pm - 6:00 pm<br />\n<br />\n&nbsp\; &nbsp\; March 3rd Men&#39\;s and Women&#39\;s Division<br />\n&nbsp\;&nbsp\;&nbsp\;&nbsp\;&nbsp\; &nbsp\; -Women&#39\;s Level 2.5-3.0........8:30 am - 10:30 am<br />\n&nbsp\;&nbsp\;&nbsp\;&nbsp\;&nbsp\; &nbsp\; -Women&#39\;s Level 3.0-3.5........10:30 am - 12:30 pm<br />\n&nbsp\; &nbsp\;&nbsp\;&nbsp\; &nbsp\; -Men&#39\;s Level 2.5-3.0.........1:00 pm - 3:00 pm<br />\n&nbsp\;&nbsp\;&nbsp\;&nbsp\;&nbsp\; &nbsp\; -Men&#39\;s Level 3.0-3.5..........3:00 pm - 5:00 pm<br />\n&nbsp\; &nbsp\;<br />\n&nbsp\;
LOCATION:Gretna Crossing YMCA 12358 S 208th Ave\, Gretna\, NE 68028
UID:e.2427.3233
SEQUENCE:3
DTSTAMP:20260421T132907Z
URL:https://business.gretnachamber.com/events/details/1st-annual-battle-of-the-paddle-pickleball-tournament-and-fundraiser-at-the-gretna-crossing-ymca-3233
END:VEVENT

END:VCALENDAR
