BEGIN:VCALENDAR
VERSION:2.0
PRODID:-//ChamberMaster//Event Calendar 2.0//EN
METHOD:PUBLISH
X-PUBLISHED-TTL:P3D
REFRESH-INTERVAL:P3D
CALSCALE:GREGORIAN
BEGIN:VEVENT
DTSTART:20161118T233000Z
DTEND:20161119T040000Z
X-MICROSOFT-CDO-ALLDAYEVENT:FALSE
SUMMARY:2016 Annual Banquet
DESCRIPTION:Social Hour ~ Cash Bar\n\nBuffet Dinner & Dessert\n\n2016 Annual Meeting \n\n2016 Awards Presentation\n\nCasino Night & Raffle
X-ALT-DESC;FMTTYPE=text/html:<span style="font-size:14px\;"><span style="font-family:arabic typesetting\;">Social Hour ~ Cash Bar</span><br>\n<span style="font-family:arabic typesetting\;">Buffet Dinner &amp\; Dessert</span><br>\n<span style="font-family:arabic typesetting\;">2016 Annual Meeting </span><br>\n<span style="font-family:arabic typesetting\;">2016 Awards Presentation</span><br>\n<span style="font-family:arabic typesetting\;">Casino Night &amp\; Raffle</span></span>
LOCATION:Tiburon Golf Club
UID:e.2427.882
SEQUENCE:3
DTSTAMP:20260423T164333Z
URL:https://business.gretnachamber.com/events/details/2016-annual-banquet-11-18-2016-882
END:VEVENT

END:VCALENDAR
