BEGIN:VCALENDAR
VERSION:2.0
PRODID:-//ChamberMaster//Event Calendar 2.0//EN
METHOD:PUBLISH
X-PUBLISHED-TTL:P3D
REFRESH-INTERVAL:P3D
CALSCALE:GREGORIAN
BEGIN:VEVENT
DTSTART:20170318T150000Z
DTEND:20170318T180000Z
X-MICROSOFT-CDO-ALLDAYEVENT:FALSE
SUMMARY:2017 Business Fair
DESCRIPTION:Games\, Raffles\, and a Kid Zone with Face Painting!\n\n\n\nRegister your booth and promote your business now!  This is a great place to show the community what your business can do for them!  Meet hundreds of local residents in just a few hours.  Offer raffles and games to collect leads and build your marketing lists.  Plus\, sales are allowed during the event!  \n\n\n\nBooths are filling up fast\, click to register online today!*\n\n\n\nRegistration Deadline: Friday\, March 3rd\n\n\n\nThe Good Life.  The Great Life.  #GretnaLife\n\n \n\n*Are you a restaurant?  We still need vendors for Taste of Gretna!  Please contact the Chamber office for more information about a table for your restaurant during this event.
X-ALT-DESC;FMTTYPE=text/html:<span style="font-family: Arial\; font-size: 12px\;">Games\, Raffles\, and a Kid Zone with Face Painting!</span><br style="font-family: Arial\; font-size: 12px\;">\n<br style="font-family: Arial\; font-size: 12px\;">\n<span style="font-family: Arial\; font-size: 12px\;">Register your booth and promote your business now! &nbsp\;This is a great place to show the community what your business can do for them! &nbsp\;Meet hundreds of local residents in just a few hours. &nbsp\;Offer raffles and games to collect leads and build your marketing lists. &nbsp\;Plus\,&nbsp\;</span><em style="font-family: Arial\; font-size: 12px\;"><strong>sales are allowed during the event! &nbsp\;</strong></em><br>\n<br>\n<strong><span style="font-family: Arial\;">Booths are filling up fast\, click to&nbsp\;</span>register&nbsp\;online&nbsp\;today<span style="font-family: Arial\;">!*</span></strong><br style="font-family: Arial\; font-size: 12px\;">\n<br style="font-family: Arial\; font-size: 12px\;">\n<em style="font-family: Arial\; font-size: 12px\;"><strong><span style="color: rgb(178\, 34\, 34)\;">Registration Deadline:&nbsp\;Friday\, March 3rd</span></strong></em><br style="font-family: Arial\; font-size: 12px\;">\n<br style="font-family: Arial\; font-size: 12px\;">\n<span style="font-family: Arial\; font-size: 12px\; color: rgb(0\, 128\, 0)\;"><strong><em>The Good Life. &nbsp\;The Great Life. &nbsp\;#GretnaLife<br>\n&#8203\;</em></strong></span><br>\n<strong><span style="font-family: Arial\; font-size: 10.6667px\;">*Are you a restaurant? &nbsp\;We still need vendors for Taste of Gretna! &nbsp\;Please contact the Chamber office for more information about a table for your restaurant during this event.</span></strong>
LOCATION:Gretna Middle School 11705 S. 216th Street Gretna\, NE 68028
UID:e.2427.1364
SEQUENCE:3
DTSTAMP:20260422T102721Z
URL:https://business.gretnachamber.com/events/details/2017-business-fair-1364
END:VEVENT

END:VCALENDAR
