BEGIN:VCALENDAR
VERSION:2.0
PRODID:-//ChamberMaster//Event Calendar 2.0//EN
METHOD:PUBLISH
X-PUBLISHED-TTL:P3D
REFRESH-INTERVAL:P3D
CALSCALE:GREGORIAN
BEGIN:VEVENT
DTSTART:20230810T210000Z
DTEND:20230810T230000Z
X-MICROSOFT-CDO-ALLDAYEVENT:FALSE
SUMMARY:2023 All Chambers Get Together
DESCRIPTION:Join us for an All Chambers After Hours!\nExpand the scope of your network as 16 regional chambers come together for one fantastic event.\n\nThat's right\, it's an All Chambers Together After Hours! From Glenwood to Gretna\, you can meet business leaders from across the Omaha Metropolitan Area in one place at one time. \n\nJoin us for this happiest of hours\, a tremendous way to connect with members of other area chambers of commerce\, seek out some mutually-beneficial relationships.
X-ALT-DESC;FMTTYPE=text/html:<span style="font-size:16px\;">Join us for an All Chambers After Hours!</span>\n<p style="box-sizing: border-box\; margin: 0px 0px 1rem\; padding: 0px 0px 1em\; border: 0px\; outline: 0px\; font-size: 16px\; text-size-adjust: 100%\; vertical-align: baseline\; background-image: initial\; background-position: initial\; background-size: initial\; background-repeat: initial\; background-attachment: initial\; background-origin: initial\; background-clip: initial\; font-family: neuzeit-grotesk\, &quot\;Helvetica Neue&quot\;\, Helvetica\, Arial\, Verdana\, sans-serif\; color: rgb(0\, 0\, 0)\;"><span style="font-size:16px\;"><span style="box-sizing: border-box\; margin: 0px\; padding: 0px\; border: 0px\; outline: 0px\; text-size-adjust: 100%\; vertical-align: baseline\; background: transparent\; font-family: Arial\, Helvetica\, sans-serif\;">Expand the scope of your network as <strong>16 regional chambers</strong> come together for one fantastic event.<br />\nThat&#39\;s right\, it<span style="box-sizing: border-box\; margin: 0px\; padding: 0px\; border: 0px\; outline: 0px\; text-size-adjust: 100%\; vertical-align: baseline\; background: transparent\;">&rsquo\;s an All Chambers Together After Hours</span>! From Glenwood to Gretna\, you can meet business leaders from across the Omaha Metropolitan Area in one place at one time.&nbsp\;</span></span></p>\n\n<p style="box-sizing: border-box\; margin: 0px 0px 1rem\; padding: 0px 0px 1em\; border: 0px\; outline: 0px\; font-size: 16px\; text-size-adjust: 100%\; vertical-align: baseline\; background-image: initial\; background-position: initial\; background-size: initial\; background-repeat: initial\; background-attachment: initial\; background-origin: initial\; background-clip: initial\; font-family: neuzeit-grotesk\, &quot\;Helvetica Neue&quot\;\, Helvetica\, Arial\, Verdana\, sans-serif\; color: rgb(0\, 0\, 0)\;"><span style="font-size:16px\;"><span style="box-sizing: border-box\; margin: 0px\; padding: 0px\; border: 0px\; outline: 0px\; text-size-adjust: 100%\; vertical-align: baseline\; background: transparent\;"><span style="box-sizing: border-box\; margin: 0px\; padding: 0px\; border: 0px\; outline: 0px\; text-size-adjust: 100%\; vertical-align: baseline\; background: transparent\; font-family: Arial\, Helvetica\, sans-serif\;">Join us for this happiest of hours\, a tremendous way to connect with members of other area chambers of commerce\, seek out some mutually-beneficial relationships.</span></span></span></p>\n
LOCATION:The Granary 5500 Granary Plaza Suite 101 Ralston\, NE 68127 United States
UID:e.2427.2677
SEQUENCE:3
DTSTAMP:20260422T040959Z
URL:https://business.gretnachamber.com/events/details/2023-all-chambers-get-together-2677
END:VEVENT

END:VCALENDAR
