BEGIN:VCALENDAR
VERSION:2.0
PRODID:-//ChamberMaster//Event Calendar 2.0//EN
METHOD:PUBLISH
X-PUBLISHED-TTL:P3D
REFRESH-INTERVAL:P3D
CALSCALE:GREGORIAN
BEGIN:VEVENT
DTSTART:20231110T230000Z
DTEND:20231111T040000Z
X-MICROSOFT-CDO-ALLDAYEVENT:FALSE
SUMMARY:2023 Beach Bash - Annual Banquet
DESCRIPTION:5:00-6:30pm: Social Hour & Networking\n\n6:30-7pm: Dinner: Whole hog\, Hawaiian beans\, pineapple fried rice\, roasted teriyaki broccoli and pineapple upside down cake with caramel goo! \n\n7-8pm: 2023 Annual Meeting & Awards Presentation ~ Hosted by 2023 Chamber Board President\, Grant Pillie\n\n8-10pm: Entertainment ~ Music Bingo!\n\n\n\n*This is a Members Only event.  You must have an active Gretna Chamber profile to register for tickets.
X-ALT-DESC;FMTTYPE=text/html:<span style="font-size:12px\;"><span style="font-family:arial\;">5:00-6:30pm: Social Hour &amp\; Networking<br />\n6:30-7pm: Dinner: W</span></span><span style="font-family:calibri\,sans-serif\;"><span style="font-size:11.0pt\;">hole hog\, Hawaiian beans\, pineapple fried rice\, roasted teriyaki broccoli and pineapple upside down cake with caramel goo!</span></span><span style="font-size:12px\;"><span style="font-family:arial\;">&nbsp\;<br />\n7-8pm: 2023 Annual Meeting &amp\; Awards Presentation ~<em><strong> Hosted by 2023 Chamber Board President\, Grant Pillie</strong></em><br />\n8-10pm: Entertainment&nbsp\;</span></span><span style="font-family: arial\; font-size: 12px\;">~</span><span style="font-size:12px\;"><span style="font-family:arial\;">&nbsp\;<b><i>Music Bingo!</i></b></span></span><br />\n<br />\n*This is a Members Only event.&nbsp\; You must have an active Gretna Chamber profile to register for tickets.
LOCATION:St. Patrick's Catholic Church - Parish Hall 508 W. Angus St. Gretna\, NE 68028
UID:e.2427.2690
SEQUENCE:3
DTSTAMP:20260421T231957Z
URL:https://business.gretnachamber.com/events/details/2023-beach-bash-annual-banquet-2690
END:VEVENT

END:VCALENDAR
