BEGIN:VCALENDAR
VERSION:2.0
PRODID:-//ChamberMaster//Event Calendar 2.0//EN
METHOD:PUBLISH
X-PUBLISHED-TTL:P3D
REFRESH-INTERVAL:P3D
CALSCALE:GREGORIAN
BEGIN:VEVENT
DTSTART:20231012T223000Z
DTEND:20231013T013000Z
X-MICROSOFT-CDO-ALLDAYEVENT:FALSE
SUMMARY:2023 Family Night at Vala's Pumpkin Patch
DESCRIPTION:Thank you for being a valued Chamber Member!  \n\n~Join us for Hot Chocolate\, Apple Cider\, and S'mores around the campfire! \n\n~Take a guess at how much candy is in the jar to win a $20 Vala's gift card!\n\n\n\nJoin us at Campfire site #18.\n\n\n\n\n\nRSVP Deadline for Chamber tickets is Midnight on Thursday 10/5/2023.\n\nNO LATE REGISTRATIONS WILL BE ACCEPTED.  Tickets can be purchased at the door after the deadline.
X-ALT-DESC;FMTTYPE=text/html:<p>Thank you for being a valued Chamber Member! &nbsp\;<br />\n~Join us&nbsp\;for Hot Chocolate\, Apple Cider\, and&nbsp\;S&#39\;mores around the campfire!&nbsp\;<br />\n~Take a guess at how much candy is in the jar to win a $20&nbsp\;Vala&#39\;s gift card!<br />\n<br />\n<strong><em><span style="color:#008000\;">Join us at Campfire site&nbsp\;#18.</span></em></strong><br />\n<br />\n<br />\n<strong>RSVP Deadline for Chamber tickets is&nbsp\;<span style="font-size:16px\;">Midnight on Thursday 10/5/2023.</span></strong><br />\n<em><strong><span style="color:#B22222\;"><span style="font-size:18px\;">NO LATE REGISTRATIONS WILL BE ACCEPTED</span>.&nbsp\; </span></strong></em><strong>Tickets can be purchased at the door after the deadline.</strong></p>\n
LOCATION:Vala's Pumpkin Patch 12102 S 180th St Gretna\, NE 68028 Campfire Site #18
UID:e.2427.2691
SEQUENCE:3
DTSTAMP:20260422T005341Z
URL:https://business.gretnachamber.com/events/details/2023-family-night-at-vala-s-pumpkin-patch-2691
END:VEVENT

END:VCALENDAR
