BEGIN:VCALENDAR
VERSION:2.0
PRODID:-//ChamberMaster//Event Calendar 2.0//EN
METHOD:PUBLISH
X-PUBLISHED-TTL:P3D
REFRESH-INTERVAL:P3D
CALSCALE:GREGORIAN
BEGIN:VEVENT
DTSTART:20230610T130000Z
DTEND:20230610T170000Z
X-MICROSOFT-CDO-ALLDAYEVENT:FALSE
SUMMARY:2023 Gretna Business Expo
DESCRIPTION:Gretna Business Expo 2023  **Note the updated time\n\nThe Chamber's theme for 2023 is 'Summertime'\, feel free to incorporate that into your set up and/or give aways!!\n\nWe will team up with McKenna Market Mania\, craft and flea market\, and the NEW Gretna Farmers Market to showcase the updates in downtown Gretna!  Food trucks and face painting available\, too!
X-ALT-DESC;FMTTYPE=text/html:Gretna Business Expo 2023&nbsp\; <em><strong>**Note the updated time</strong></em><br />\n<em style="color: rgb(0\, 100\, 0)\;"><strong>The Chamber&#39\;s theme for 2023 is &#39\;Summertime&#39\;\, feel free to incorporate that into your set up and/or give aways!!</strong></em><br />\nWe will team up with McKenna Market Mania\, craft and flea market\, and the NEW Gretna Farmers Market to showcase the updates in downtown Gretna!&nbsp\; Food trucks and face painting available\, too!&nbsp\;&nbsp\;<br />\n&nbsp\;
LOCATION:Downtown Gretna on the Red Brick Road McKenna Ave. Gretna\, NE 68028
UID:e.2427.2634
SEQUENCE:3
DTSTAMP:20260422T074207Z
URL:https://business.gretnachamber.com/events/details/2023-gretna-business-expo-2634
END:VEVENT

END:VCALENDAR
