BEGIN:VCALENDAR
VERSION:2.0
PRODID:-//ChamberMaster//Event Calendar 2.0//EN
METHOD:PUBLISH
X-PUBLISHED-TTL:P3D
REFRESH-INTERVAL:P3D
CALSCALE:GREGORIAN
BEGIN:VEVENT
DTSTART:20230615T223000Z
DTEND:20230616T020000Z
X-MICROSOFT-CDO-ALLDAYEVENT:FALSE
SUMMARY:2023 Omaha Storm Chasers Chamber Night Out: Werner Park
DESCRIPTION:Business After Hours: Tailgating\, Baseball\, Thirsty Thursday with the Omaha Storm Chasers at Werner Park!\n\n\n\nFAMILY FRIENDLY!  Beanbags\, Bubbles\, and Baseballs - Bring your kids!  Lawn chairs welcome.\n\n\n\nTickets include a hot dog with all the fixin's\, and chips.  Water will be provided.  Feel free to bring other snacks or refreshments for tailgating!\n\n\n\nTickets are $15/kid and $18/adults for Chamber Members and their guests.\n\n\n\nRegistration Deadline: Wednesday\, June 7th!\n\n\n\n\n\nSPONSORSHIPS AVAILABLE!\n\n1. Diamond Sponsor  : $200\n\n	 8 Tickets\n	3 Parking Passes\n	Company Logo listed on sponsor signage\n	Additional tickets (9+) only $14!  Use promo code "Diamond" for each additional attendee!\n\n 2.   Gold Sponsor: $100\n\n\n	 4 Tickets\n	2 Parking Passes\n	Company Logo listed on sponsor signage\n\n3. Blue Sponsor: $50\n\n\n	 2 Tickets\n	1 Parking Pass\n	Company Name listed on sponsor signage (Name Only)
X-ALT-DESC;FMTTYPE=text/html:Business After Hours: Tailgating\, Baseball\, Thirsty Thursday with the Omaha Storm Chasers at Werner Park!<br />\n<br />\n<span style="line-height: 20.8px\;"><strong>FAMILY FRIENDLY!&nbsp\;</strong> Beanbags\, Bubbles\, and Baseballs - Bring your kids!&nbsp\; Lawn chairs welcome.<br />\n<br />\nTickets&nbsp\;include a hot dog with all the&nbsp\;</span>fixin&#39\;s<span style="line-height: 20.8px\;">\, and chips. &nbsp\;Water will be provided. &nbsp\;Feel free to bring other snacks or refreshments for tailgating!<br />\n<br />\nTickets are $15/kid and $18/adults for Chamber Members and their guests.</span><br />\n<br />\n<strong><span style="color:#B22222\;"><em>Registration Deadline: Wednesday\, June 7th!</em></span></strong><br />\n<br />\n<br />\n<u><strong>SPONSORSHIPS AVAILABLE!</strong></u><br />\n<em>1. Diamond Sponsor</em><em>&#8203\;&#8203\;: $200</em>\n<ul>\n	<li><em>&#8203\;</em><em>8 Tickets</em></li>\n	<li><em>3 Parking Passes</em></li>\n	<li><em>Company Logo listed on sponsor signage</em></li>\n	<li><em>Additional tickets (9+) only $14!&nbsp\; Use promo code <strong>&quot\;Diamond&quot\;</strong> for each additional attendee!</em></li>\n</ul>\n&#8203\;<em>2.&nbsp\;<em>&#8203\;&#8203\;Gold Sponsor: $100</em></em>\n\n<ul>\n	<li><em>&#8203\;4 Tickets</em></li>\n	<li>2 Parking Passes</li>\n	<li>Company Logo listed on sponsor signage</li>\n</ul>\n<i>3. Blue Sponsor: $50</i>\n\n<ul>\n	<li><i>&#8203\;2 Tickets</i></li>\n	<li><i>1 Parking Pass</i></li>\n	<li><i>Company Name listed on sponsor signage (Name Only</i>)</li>\n</ul>\n
LOCATION:12356 Ballpark Way\, Papillion\, NE 68046 Parking passes can be picked up at the Chamber Office the day before the event. Tickets must be picked up at the tailgating site before the game\, or the box office once the game starts.
UID:e.2427.2659
SEQUENCE:3
DTSTAMP:20260422T074116Z
URL:https://business.gretnachamber.com/events/details/2023-omaha-storm-chasers-chamber-night-out-werner-park-2659
END:VEVENT

END:VCALENDAR
