BEGIN:VCALENDAR
VERSION:2.0
PRODID:-//ChamberMaster//Event Calendar 2.0//EN
METHOD:PUBLISH
X-PUBLISHED-TTL:P3D
REFRESH-INTERVAL:P3D
CALSCALE:GREGORIAN
BEGIN:VEVENT
DTSTART;VALUE=DATE:20230730
DTEND;VALUE=DATE:20230731
TRANSP:TRANSPARENT
X-MICROSOFT-CDO-ALLDAYEVENT:TRUE
SUMMARY:2023 Pickleball Tournament
DESCRIPTION:1st Annual Pickleball Tournament (Gretna Days)
X-ALT-DESC;FMTTYPE=text/html:1st Annual Pickleball Tournament (Gretna Days)<br />\n&nbsp\;
LOCATION:North Park Gretna
UID:e.2427.3219
SEQUENCE:3
DTSTAMP:20260422T073959Z
URL:https://business.gretnachamber.com/events/details/2023-pickleball-tournament-3219
END:VEVENT

END:VCALENDAR
