BEGIN:VCALENDAR
VERSION:2.0
PRODID:-//ChamberMaster//Event Calendar 2.0//EN
METHOD:PUBLISH
X-PUBLISHED-TTL:P3D
REFRESH-INTERVAL:P3D
CALSCALE:GREGORIAN
BEGIN:VEVENT
DTSTART:20231203T190000Z
DTEND:20231203T220000Z
X-MICROSOFT-CDO-ALLDAYEVENT:FALSE
SUMMARY:2023 The Chamber's Holiday Wishing Tree
DESCRIPTION:Help decorate "The Wishing Tree"!\n\nVisit The Gretna Chamber inside the Candle House\, pick up a paper ornament\, write your wish on the ornament and hang it on the tree!\n\n \n\nThe Chamber will be handing out goodies\, too!
X-ALT-DESC;FMTTYPE=text/html:<p>Help decorate &quot\;<strong>The Wishing Tree&quot\;</strong>!<br />\nVisit <span style="color:#006400\;"><strong>The Gretna Chamber</strong></span> inside the Candle House\, pick up a paper ornament\, write your wish on the ornament and hang it on the tree!<br />\n&nbsp\;</p>\n\n<p><span style="font-size:14px\;"><strong><span style="color:#006400\;"><em>The Chamber will be handing out goodies\, too!</em></span></strong></span></p>\n
LOCATION:The Candle House 112 N McKenna Ave. Gretna\, NE
UID:e.2427.3220
SEQUENCE:3
DTSTAMP:20260421T184443Z
URL:https://business.gretnachamber.com/events/details/2023-the-chamber-s-holiday-wishing-tree-3220
END:VEVENT

END:VCALENDAR
