BEGIN:VCALENDAR
VERSION:2.0
PRODID:-//ChamberMaster//Event Calendar 2.0//EN
METHOD:PUBLISH
X-PUBLISHED-TTL:P3D
REFRESH-INTERVAL:P3D
CALSCALE:GREGORIAN
BEGIN:VEVENT
DTSTART:20240320T123000Z
DTEND:20240320T140000Z
X-MICROSOFT-CDO-ALLDAYEVENT:FALSE
SUMMARY:2024 Coffee and Connections: March Madness with Gretna Insurance Agency
DESCRIPTION:Coffee and Connections March Madness Style!\n\nFill out your basketball bracket and see how you do against other College BB fans!
X-ALT-DESC;FMTTYPE=text/html:Coffee and Connections March Madness Style!<br />\nFill out your basketball bracket and see how you do against other College BB fans!
LOCATION:Gretna Insurance Agency 802 Village Square Gretna\, NE 68028
UID:e.2427.3231
SEQUENCE:3
DTSTAMP:20260421T161413Z
URL:https://business.gretnachamber.com/events/details/2024-coffee-and-connections-march-madness-with-gretna-insurance-agency-3231
END:VEVENT

END:VCALENDAR
