BEGIN:VCALENDAR
VERSION:2.0
PRODID:-//ChamberMaster//Event Calendar 2.0//EN
METHOD:PUBLISH
X-PUBLISHED-TTL:P3D
REFRESH-INTERVAL:P3D
CALSCALE:GREGORIAN
BEGIN:VEVENT
DTSTART:20240608T130000Z
DTEND:20240608T170000Z
X-MICROSOFT-CDO-ALLDAYEVENT:FALSE
SUMMARY:2024 Gretna Business Expo
DESCRIPTION:Gretna Business Expo 2024\n\nThe Chamber's theme for 2024 is 'Olympics 2024'\, feel free to incorporate that into your setup and/or giveaways!!\n\n\n\nEach vendor will have an 11' x 11' space to set up your table\, chairs\, decorations\, games\, etc.  Please plan accordingly.
X-ALT-DESC;FMTTYPE=text/html:<span style="font-size:18px\;"><strong>Gretna Business Expo 2024</strong></span><br />\n<em style="color: rgb(0\, 100\, 0)\;"><strong>The Chamber&#39\;s theme for 2024 is &#39\;Olympics 2024&#39\;\, feel free to incorporate that into your setup and/or giveaways!!</strong></em><br />\n<br />\n<span style="font-size:14px\;"><strong>Each vendor will have an 11&#39\; x 11&#39\; space to set up your table\, chairs\, decorations\, games\, etc.&nbsp\; Please plan accordingly.</strong></span>
LOCATION:Downtown Gretna on the Red Brick Road McKenna Ave. Gretna\, NE 68028
UID:e.2427.2705
SEQUENCE:3
DTSTAMP:20260421T125617Z
URL:https://business.gretnachamber.com/events/details/2024-gretna-business-expo-2705
END:VEVENT

END:VCALENDAR
