BEGIN:VCALENDAR
VERSION:2.0
PRODID:-//ChamberMaster//Event Calendar 2.0//EN
METHOD:PUBLISH
X-PUBLISHED-TTL:P3D
REFRESH-INTERVAL:P3D
CALSCALE:GREGORIAN
BEGIN:VEVENT
DTSTART:20240727T153000Z
DTEND:20240727T173000Z
X-MICROSOFT-CDO-ALLDAYEVENT:FALSE
SUMMARY:2024 Gretna Days Parade
DESCRIPTION:This year's parade theme is Olympics 2024!!\n\nThe community will vote on the 'Theme Winners"!!\n\n\n\nThis year's THEME prizes are:\n\n1st: $100\n\n2nd: $75\n\n3rd: $50
X-ALT-DESC;FMTTYPE=text/html:<p>This year&#39\;s parade theme is <strong><em>Olympics 2024!!</em></strong><br />\nThe community will vote on the &#39\;Theme Winners&quot\;!!<br />\n<br />\nThis year&#39\;s THEME prizes are:<br />\n1st: $100<br />\n2nd: $75<br />\n3rd: $50<br />\n<br />\n<br />\n&nbsp\;</p>\n
LOCATION:The Parade Lineup will be at Gretna Middle School. This is the same location as previous years. Lineup time is from 9:00 am - 10:30 am\, depending on your place in line. Please watch for more information the week prior to the parade. DEADLINE JULY 19\, 2024! Parade Route: Starts at the Gretna Public Library and follows McKenna Street north to Angus Street east\, ending at the Gretna Public Pool. This is the same route as previous years.
UID:e.2427.2702
SEQUENCE:3
DTSTAMP:20260419T173709Z
URL:https://business.gretnachamber.com/events/details/2024-gretna-days-parade-2702
END:VEVENT

END:VCALENDAR
