BEGIN:VCALENDAR
VERSION:2.0
PRODID:-//ChamberMaster//Event Calendar 2.0//EN
METHOD:PUBLISH
X-PUBLISHED-TTL:P3D
REFRESH-INTERVAL:P3D
CALSCALE:GREGORIAN
BEGIN:VEVENT
DTSTART:20240229T220000Z
DTEND:20240301T010000Z
X-MICROSOFT-CDO-ALLDAYEVENT:FALSE
SUMMARY:2024 Member Mixer !!REGISTRATION REQUIRED!!
DESCRIPTION:LEAP into 2024 with us!\n\nThe Gretna Chamber would like to show our appreciation to ALL our members\, long time and brand new!  Please celebrate with us! (1 or 2 representatives from each membership please)
X-ALT-DESC;FMTTYPE=text/html:<strong><span style="color:#0000CD\;"><span style="font-size:14px\;"><span style="font-size:16px\;"><em>LEAP</em></span> into 2024 with us!<br />\nThe Gretna Chamber would like to show our <u>appreciation</u> to ALL our members\, long time and brand new!&nbsp\; Please celebrate with us!&nbsp\;<em>(1 or 2 representatives from each membership please)</em></span></span></strong><br />\n&nbsp\;
LOCATION:Heavy Brewing 20333 Patton St. Gretna\, NE
UID:e.2427.2699
SEQUENCE:3
DTSTAMP:20260421T175235Z
URL:https://business.gretnachamber.com/events/details/2024-member-mixer-registration-required-2699
END:VEVENT

END:VCALENDAR
