BEGIN:VCALENDAR
VERSION:2.0
PRODID:-//ChamberMaster//Event Calendar 2.0//EN
METHOD:PUBLISH
X-PUBLISHED-TTL:P3D
REFRESH-INTERVAL:P3D
CALSCALE:GREGORIAN
BEGIN:VEVENT
DTSTART:20240502T123000Z
DTEND:20240502T140000Z
X-MICROSOFT-CDO-ALLDAYEVENT:FALSE
SUMMARY:2024 State of the City
DESCRIPTION:The 1st Annual State of the City Address\n\nGuest Speakers:\n\nTrenton and Jeff  ~Grow Omaha\n\nFred Uhe  ~Sarpy County Tourism\n\nMike Evans ~Mayor of Gretna
X-ALT-DESC;FMTTYPE=text/html:<span style="font-size:18px\;"><strong>The 1st Annual State of the City Address<br />\n<u>Guest Speakers:</u><br />\nTrenton and Jeff&nbsp\; ~Grow Omaha<br />\nFred Uhe&nbsp\; ~Sarpy County Tourism<br />\nMike Evans ~Mayor of Gretna</strong></span>
LOCATION:20020 Hampton Dr. Gretna\, NE ~Inside Journey Church~
UID:e.2427.3236
SEQUENCE:3
DTSTAMP:20260421T143253Z
URL:https://business.gretnachamber.com/events/details/2024-state-of-the-city-3236
END:VEVENT

END:VCALENDAR
