BEGIN:VCALENDAR
VERSION:2.0
PRODID:-//ChamberMaster//Event Calendar 2.0//EN
METHOD:PUBLISH
X-PUBLISHED-TTL:P3D
REFRESH-INTERVAL:P3D
CALSCALE:GREGORIAN
BEGIN:VEVENT
DTSTART:20240620T230000Z
DTEND:20240621T020000Z
X-MICROSOFT-CDO-ALLDAYEVENT:FALSE
SUMMARY:2024 Storm Chaser Chamber Night Out
DESCRIPTION:Business After Hours: Food\, drinks\, friendship building at Werner Park!\n\nWe have upgraded this event to enjoy the game behind home plate on the covered CKF Party Deck with catered food and lots of space to mingle!\n\n\n\nGame tickets include a hot dog and hamburger bar with sides\, chips and water.\n\nThere is a bar located on this party deck!\n\nWant to throw out the first pitch?! Let us know when you register!\n\n\n\nSPONSORSHIPS AVAILABLE!  Can't attend and want to support?  Choose the Home PLATE Sponsor!\n\n1. Home Run Sponsor: $350\n\n	 8 Tickets\n	8 Beverage tickets\n	Company Logo listed on sponsor signage\n\n 2.   Triple Sponsor: $200\n\n\n	 4 Tickets\n	4 Beverage tickets\n	Company Logo listed on sponsor signage\n\n 3.   Home PLATE Sponsor: $100 \n\n\n	Company Logo will be prominent at the buffet line
X-ALT-DESC;FMTTYPE=text/html:Business After Hours: Food\, drinks\, friendship building at Werner Park!<br />\n<span style="font-size:16px\;"><span style="color:#008000\;"><strong>We have upgraded this event to enjoy the game behind home plate on the covered CKF Party Deck with catered food and lots of space to mingle!</strong></span></span><br />\n<br />\n<span style="font-size:14px\;"><span style="line-height: 20.8px\;">Game tickets&nbsp\;include a hot dog and hamburger bar with sides</span><span style="line-height: 20.8px\;">\, chips and water.<br />\nThere is a bar located on this party deck!</span></span><br />\n<em><span style="color:#0000CD\;"><span style="font-size:18px\;"><strong>Want to throw out the first pitch?! Let us know when you register!</strong></span></span></em><br />\n<br />\n<u><strong>SPONSORSHIPS AVAILABLE!&nbsp\; </strong></u><em><strong>Can&#39\;t attend and want to support?&nbsp\; Choose the Home PLATE Sponsor!</strong></em><br />\n<em>1. Home Run Sponsor</em><em>: $350</em>\n<ul>\n	<li><em>&#8203\;</em><em>8 Tickets</em></li>\n	<li><em>8 Beverage tickets</em></li>\n	<li><em>Company Logo listed on sponsor signage</em></li>\n</ul>\n&#8203\;<em>2.&nbsp\;<em>&#8203\;&#8203\;Triple Sponsor: $200</em></em>\n\n<ul>\n	<li><em>&#8203\;4 Tickets</em></li>\n	<li><em>4 Beverage tickets</em></li>\n	<li><em>Company Logo listed on sponsor signage</em></li>\n</ul>\n&#8203\;<em>3.&nbsp\;<em>&#8203\;&#8203\;Home PLATE Sponsor: $100</em></em><em>&#8203\;</em>\n\n<ul>\n	<li><em>Company Logo will be prominent at the buffet line</em></li>\n</ul>\n
LOCATION:12356 Ballpark Way\, Papillion\, NE 68046 Electronic tickets will be emailed prior to the event! Use Press Entrance to check in.
UID:e.2427.2701
SEQUENCE:3
DTSTAMP:20260421T112636Z
URL:https://business.gretnachamber.com/events/details/2024-storm-chaser-chamber-night-out-2701
END:VEVENT

END:VCALENDAR
