BEGIN:VCALENDAR
VERSION:2.0
PRODID:-//ChamberMaster//Event Calendar 2.0//EN
METHOD:PUBLISH
X-PUBLISHED-TTL:P3D
REFRESH-INTERVAL:P3D
CALSCALE:GREGORIAN
BEGIN:VEVENT
DTSTART:20240418T190000Z
DTEND:20240418T220000Z
X-MICROSOFT-CDO-ALLDAYEVENT:FALSE
SUMMARY:2024 Top Golf
DESCRIPTION:Join us for our 4th Annual Top Golf event!\n\nRegister as an individual or rent a 6-person bay!\n\nThis event has sold out every year!\n\n\n\nEnjoy golf\, food\, and networking\, all with corporate pricing\, courtesy of your Gretna Chamber membership!
X-ALT-DESC;FMTTYPE=text/html:<span style="font-size:16px\;"><strong>Join us for our 4th Annual Top Golf event!</strong></span><br />\nRegister as an individual or rent a 6-person bay!<br />\nThis event has sold out every year!<br />\n<br />\n<strong>Enjoy golf\, food\, and networking\, all with corporate pricing\, courtesy of your Gretna Chamber membership!</strong>
LOCATION:Top Golf Omaha 908 N 102nd St. Omaha\, NE 68114
UID:e.2427.2700
SEQUENCE:3
DTSTAMP:20260421T142706Z
URL:https://business.gretnachamber.com/events/details/2024-top-golf-2700
END:VEVENT

END:VCALENDAR
