BEGIN:VCALENDAR
VERSION:2.0
PRODID:-//ChamberMaster//Event Calendar 2.0//EN
METHOD:PUBLISH
X-PUBLISHED-TTL:P3D
REFRESH-INTERVAL:P3D
CALSCALE:GREGORIAN
BEGIN:VEVENT
DTSTART:20260226T220000Z
DTEND:20260227T010000Z
X-MICROSOFT-CDO-ALLDAYEVENT:FALSE
SUMMARY:2026 Member Mixer **REGISTRATION REQUIRED**
DESCRIPTION:Join us for our popular 2026 Winter Member Mixer!  This year's chamber theme is Four Seasons. One Community. So we are kicking off the year in our Winter Season...\n\n\n\nThis night is all about YOU - our incredible members\, both longtime and brand new.  Come sip\, snack\, mingle and celebrate the community that makes Gretna great!\n\n\n\nRegistration Required!!\n\nEach Business/Associate Member receives 2 FREE Entry tickets.\n\nMarketing Partners: 3 FREE Entry Tickets\n\nBlack Level Partners: 4 FREE Entry Tickets\n\nGreen Level Partners:  6 FREE Entry Tickets\n\nGold Level Partners:  8 FREE Entry Tickets \n\n\n\nRegistration required!  Each Chamber Business will receive a special commemorative gift!
X-ALT-DESC;FMTTYPE=text/html:<span style="color:#0000CD\;"><span style="font-size: 16px\;">Join us for our popular 2026 Winter Member Mixer!&nbsp\; This year&#39\;s chamber theme is Four Seasons. One Community. So we are kicking off the year in our Winter Season...</span></span><br />\n<br />\n<span style="font-size: 14px\;">This night is all about YOU - our incredible members\, both longtime and brand new.&nbsp\; Come sip\, snack\, mingle and celebrate the community that makes Gretna great!</span><br />\n<br />\n<span style="color: rgb(51\, 51\, 51)\; font-family: sans-serif\, Arial\, Verdana\, &quot\;Trebuchet MS&quot\;\; font-size: 14px\;"><strong>Registration Required!!</strong></span><br style="color: rgb(51\, 51\, 51)\; font-family: sans-serif\, Arial\, Verdana\, &quot\;Trebuchet MS&quot\;\; font-size: 13px\;" />\n<span style="color: rgb(51\, 51\, 51)\; font-family: sans-serif\, Arial\, Verdana\, &quot\;Trebuchet MS&quot\;\; font-size: 13px\; background-color: rgb(255\, 255\, 255)\;">Each Business/Associate Member receives 2 FREE Entry tickets.</span><br style="color: rgb(51\, 51\, 51)\; font-family: sans-serif\, Arial\, Verdana\, &quot\;Trebuchet MS&quot\;\; font-size: 13px\;" />\n<strong style="color: rgb(51\, 51\, 51)\; font-family: sans-serif\, Arial\, Verdana\, &quot\;Trebuchet MS&quot\;\; font-size: 13px\;"><span style="color: rgb(0\, 0\, 205)\;">Marketing Partners:</span></strong><span style="color: rgb(51\, 51\, 51)\; font-family: sans-serif\, Arial\, Verdana\, &quot\;Trebuchet MS&quot\;\; font-size: 13px\; background-color: rgb(255\, 255\, 255)\;">&nbsp\;3 FREE Entry Tickets</span><br style="color: rgb(51\, 51\, 51)\; font-family: sans-serif\, Arial\, Verdana\, &quot\;Trebuchet MS&quot\;\; font-size: 13px\;" />\n<strong style="color: rgb(51\, 51\, 51)\; font-family: sans-serif\, Arial\, Verdana\, &quot\;Trebuchet MS&quot\;\; font-size: 13px\;">Black Level Partners</strong><span style="color: rgb(51\, 51\, 51)\; font-family: sans-serif\, Arial\, Verdana\, &quot\;Trebuchet MS&quot\;\; font-size: 13px\; background-color: rgb(255\, 255\, 255)\;">: 4 FREE Entry Tickets</span><br style="color: rgb(51\, 51\, 51)\; font-family: sans-serif\, Arial\, Verdana\, &quot\;Trebuchet MS&quot\;\; font-size: 13px\;" />\n<strong style="color: rgb(51\, 51\, 51)\; font-family: sans-serif\, Arial\, Verdana\, &quot\;Trebuchet MS&quot\;\; font-size: 13px\;"><span style="color: rgb(0\, 100\, 0)\;">Green Level Partners:</span></strong><span style="color: rgb(51\, 51\, 51)\; font-family: sans-serif\, Arial\, Verdana\, &quot\;Trebuchet MS&quot\;\; font-size: 13px\; background-color: rgb(255\, 255\, 255)\;">&nbsp\; 6 FREE Entry Tickets</span><br style="color: rgb(51\, 51\, 51)\; font-family: sans-serif\, Arial\, Verdana\, &quot\;Trebuchet MS&quot\;\; font-size: 13px\;" />\n<span style="font-family: sans-serif\, Arial\, Verdana\, &quot\;Trebuchet MS&quot\;\; font-size: 13px\; color: rgb(218\, 165\, 32)\;"><strong>Gold Level Partners:</strong></span><span style="color: rgb(51\, 51\, 51)\; font-family: sans-serif\, Arial\, Verdana\, &quot\;Trebuchet MS&quot\;\; font-size: 13px\; background-color: rgb(255\, 255\, 255)\;">&nbsp\; 8 FREE Entry Tickets&nbsp\;</span><br style="color: rgb(51\, 51\, 51)\; font-family: sans-serif\, Arial\, Verdana\, &quot\;Trebuchet MS&quot\;\; font-size: 13px\;" />\n<br style="color: rgb(51\, 51\, 51)\; font-family: sans-serif\, Arial\, Verdana\, &quot\;Trebuchet MS&quot\;\; font-size: 13px\;" />\n<strong style="color: rgb(51\, 51\, 51)\; font-family: sans-serif\, Arial\, Verdana\, &quot\;Trebuchet MS&quot\;\; font-size: 13px\;">Registration required!&nbsp\;&nbsp\;Each Chamber Business will receive a special commemorative gift!&nbsp\;</strong>
LOCATION:Heavy Brewing 20333 Patton St. Gretna\, NE
UID:e.2427.3852
SEQUENCE:3
DTSTAMP:20260424T193420Z
URL:https://business.gretnachamber.com/events/details/2026-member-mixer-registration-required-3852
END:VEVENT

END:VCALENDAR
