BEGIN:VCALENDAR
VERSION:2.0
PRODID:-//ChamberMaster//Event Calendar 2.0//EN
METHOD:PUBLISH
X-PUBLISHED-TTL:P3D
REFRESH-INTERVAL:P3D
CALSCALE:GREGORIAN
BEGIN:VEVENT
DTSTART:20240711T210000Z
DTEND:20240711T230000Z
X-MICROSOFT-CDO-ALLDAYEVENT:FALSE
SUMMARY:After Hours hosted by Great Plains Communications
DESCRIPTION:Join us for an after hours event\n\n	Date: Thursday\, July 11th\n	Time: 4-6pm\n	Join us at Hurrdat Sports Bar & Grill / 10746 S 204th Ave\, Ste 1 / Gretna\, NE 68028\n	Appetizers & Drinks\n	Register to win 2 $50 gift cards to local area businesses.
X-ALT-DESC;FMTTYPE=text/html:Join us for an after hours event\n<ul>\n	<li style="font-size:10pt\;font-family:Calibri\, sans-serif\;"><span style="font-family:aptos\,sans-serif\;"><span style="font-size:12pt\;">Date: Thursday\, July 11<sup>th</sup></span></span></li>\n	<li style="font-size:10pt\;font-family:Calibri\, sans-serif\;"><span style="font-family:aptos\,sans-serif\;"><span style="font-size:12pt\;">Time: 4-6pm</span></span></li>\n	<li style="font-size:10pt\;font-family:Calibri\, sans-serif\;"><strong><span style="font-size:18px\;">Join us at Hurrdat Sports Bar &amp\; Grill / 10746 S 204<sup>th</sup>&nbsp\;Ave\, Ste 1 / Gretna\, NE 68028</span></strong></li>\n	<li style="font-size:10pt\;font-family:Calibri\, sans-serif\;"><span style="font-size:12pt\;">Appetizers &amp\; Drinks</span></li>\n	<li style="font-size:10pt\;font-family:Calibri\, sans-serif\;"><span style="font-size:12pt\;">Register to win 2 $50 gift cards to local area businesses.</span></li>\n</ul>\n&nbsp\;
LOCATION:Hurrdat Sports Bar & Grill / 10746 S 204th Ave\, Ste 1 / Gretna\, NE 68028
UID:e.2427.3260
SEQUENCE:3
DTSTAMP:20260419T173538Z
URL:https://business.gretnachamber.com/events/details/after-hours-hosted-by-great-plains-communications-3260
END:VEVENT

END:VCALENDAR
