BEGIN:VCALENDAR
VERSION:2.0
PRODID:-//ChamberMaster//Event Calendar 2.0//EN
METHOD:PUBLISH
X-PUBLISHED-TTL:P3D
REFRESH-INTERVAL:P3D
CALSCALE:GREGORIAN
BEGIN:VEVENT
DTSTART:20240425T220000Z
DTEND:20240426T000000Z
X-MICROSOFT-CDO-ALLDAYEVENT:FALSE
SUMMARY:After Hours with Allo
DESCRIPTION:After Hours with Allo at Heavy Brewing!\n\nEnjoy appetizers and drinks while building business relationships!
X-ALT-DESC;FMTTYPE=text/html:<span style="font-size:14px\;"><strong>After Hours with Allo at Heavy Brewing!<br />\nEnjoy appetizers and drinks while building business relationships!</strong></span>
LOCATION:Heavy Brewing 20333 Pattton St. Gretna\, NE
UID:e.2427.3243
SEQUENCE:3
DTSTAMP:20260421T142820Z
URL:https://business.gretnachamber.com/events/details/after-hours-with-allo-3243
END:VEVENT

END:VCALENDAR
