BEGIN:VCALENDAR
VERSION:2.0
PRODID:-//ChamberMaster//Event Calendar 2.0//EN
METHOD:PUBLISH
X-PUBLISHED-TTL:P3D
REFRESH-INTERVAL:P3D
CALSCALE:GREGORIAN
BEGIN:VEVENT
DTSTART:20230907T210000Z
DTEND:20230907T230000Z
X-MICROSOFT-CDO-ALLDAYEVENT:FALSE
SUMMARY:After Hours with Great plains Communications
DESCRIPTION:Networking\, Food\, Drinks and Gift Cards!!!\n\nWhat more do you need to make for a great social event!?
X-ALT-DESC;FMTTYPE=text/html:<strong><span style="color:#000080\;"><span style="font-size:18px\;">Networking\, Food\, Drinks and Gift Cards!!!<br />\nWhat more do you need to make for a great social event!?&nbsp\;&nbsp\;&nbsp\;&nbsp\;</span></span></strong>
LOCATION:Heavy Brewing 20333 Patton St. Gretna\, NE
UID:e.2427.2694
SEQUENCE:3
DTSTAMP:20260422T023722Z
URL:https://business.gretnachamber.com/events/details/after-hours-with-great-plains-communications-2694
END:VEVENT

END:VCALENDAR
