BEGIN:VCALENDAR
VERSION:2.0
PRODID:-//ChamberMaster//Event Calendar 2.0//EN
METHOD:PUBLISH
X-PUBLISHED-TTL:P3D
REFRESH-INTERVAL:P3D
CALSCALE:GREGORIAN
BEGIN:VEVENT
DTSTART:20260217T223000Z
DTEND:20260217T233000Z
X-MICROSOFT-CDO-ALLDAYEVENT:FALSE
SUMMARY:AIM Fitness: Chamber Member Workout
DESCRIPTION:Join us for a fun\, no-pressure Chamber Member Workout.
X-ALT-DESC;FMTTYPE=text/html:Join us for a fun\, no-pressure Chamber Member Workout.
LOCATION:AIM Fitness & Nutrition 11922 Standing Stone Drive\, Gretna
UID:e.2427.3923
SEQUENCE:3
DTSTAMP:20260424T204531Z
URL:https://business.gretnachamber.com/events/details/aim-fitness-chamber-member-workout-3923
END:VEVENT

END:VCALENDAR
