BEGIN:VCALENDAR
VERSION:2.0
PRODID:-//ChamberMaster//Event Calendar 2.0//EN
METHOD:PUBLISH
X-PUBLISHED-TTL:P3D
REFRESH-INTERVAL:P3D
CALSCALE:GREGORIAN
BEGIN:VEVENT
DTSTART:20240206T180000Z
DTEND:20240206T190000Z
X-MICROSOFT-CDO-ALLDAYEVENT:FALSE
SUMMARY:Allo Fiber - Ribbon Cutting
DESCRIPTION:Join us at ALLO FIBER for a Ribbon Cutting Ceremony. Lunch provided.
X-ALT-DESC;FMTTYPE=text/html:Join us at ALLO FIBER for a Ribbon Cutting Ceremony. <span style="font-size:14px\;"><strong>Lunch provided.&nbsp\;</strong></span>
LOCATION:20024 Glenmore Drive\, Suite 103 Gretna\, NE 68028
UID:e.2427.3232
SEQUENCE:3
DTSTAMP:20260421T175326Z
URL:https://business.gretnachamber.com/events/details/allo-fiber-ribbon-cutting-3232
END:VEVENT

END:VCALENDAR
