BEGIN:VCALENDAR
VERSION:2.0
PRODID:-//ChamberMaster//Event Calendar 2.0//EN
METHOD:PUBLISH
X-PUBLISHED-TTL:P3D
REFRESH-INTERVAL:P3D
CALSCALE:GREGORIAN
BEGIN:VEVENT
DTSTART:20240614T210000Z
DTEND:20240614T220000Z
X-MICROSOFT-CDO-ALLDAYEVENT:FALSE
SUMMARY:B Douglas Construction - Ribbon Cutting
DESCRIPTION:Join B Douglas at their new location for a Ribbon Cutting & Open House
X-ALT-DESC;FMTTYPE=text/html:Join B Douglas at their new location for a Ribbon Cutting &amp\; Open House
LOCATION:20040 Hampton Drive #1
UID:e.2427.3252
SEQUENCE:3
DTSTAMP:20260421T130150Z
URL:https://business.gretnachamber.com/events/details/b-douglas-construction-ribbon-cutting-3252
END:VEVENT

END:VCALENDAR
