BEGIN:VCALENDAR
VERSION:2.0
PRODID:-//ChamberMaster//Event Calendar 2.0//EN
METHOD:PUBLISH
X-PUBLISHED-TTL:P3D
REFRESH-INTERVAL:P3D
CALSCALE:GREGORIAN
BEGIN:VEVENT
DTSTART:20230728T220000Z
DTEND:20230729T030000Z
X-MICROSOFT-CDO-ALLDAYEVENT:FALSE
SUMMARY:Bags\, Beers & Brats
DESCRIPTION:Join us for this year's Bags\, Beers & Brats with LIVE music by Cooper James!! \n\n\n\nRegister to play in the cornhole tournament\, enjoy food\, beer\, live music & fun!!\n\n\n\nGretna Citizen of the Year announcement at 8 pm. \n\n\n\nCornhole players need to register for the tournament by emailing gretnaoptimistclub@gmail.com\n\n\n\nTables\, chairs & tents are provided however you are welcome to bring your own lawn chairs. \n\n\n\nThank you to our sponsors: \n\nGretna Optimist Club & Knights of Columbus
X-ALT-DESC;FMTTYPE=text/html:<strong>Join us for this year&#39\;s Bags\, Beers &amp\; Brats with LIVE music by Cooper James!!&nbsp\;</strong><br />\n<br />\nRegister to play in the cornhole tournament\, enjoy food\, beer\, live music &amp\; fun!!<br />\n<br />\nGretna Citizen of the Year announcement at 8 pm.&nbsp\;<br />\n<br />\n<span style="color:#006400\;"><strong><em>Cornhole players need to register for the tournament by emailing gretnaoptimistclub@gmail.com</em></strong></span><br />\n<br />\nTables\, chairs &amp\; tents are provided however you are welcome to bring your own lawn chairs.&nbsp\;<br />\n<br />\nThank you to our sponsors:&nbsp\;<br />\n<span style="font-size:16px\;"><strong>Gretna Optimist Club &amp\; Knights of Columbus</strong></span>
LOCATION:St Patrick's Catholic Church. 508 W Angus Street (Parking lot south of Angus St)
UID:e.2427.2672
SEQUENCE:3
DTSTAMP:20260422T073921Z
URL:https://business.gretnachamber.com/events/details/bags-beers-brats-2672
END:VEVENT

END:VCALENDAR
