BEGIN:VCALENDAR
VERSION:2.0
PRODID:-//ChamberMaster//Event Calendar 2.0//EN
METHOD:PUBLISH
X-PUBLISHED-TTL:P3D
REFRESH-INTERVAL:P3D
CALSCALE:GREGORIAN
BEGIN:VEVENT
DTSTART:20230616T200000Z
DTEND:20230616T203000Z
X-MICROSOFT-CDO-ALLDAYEVENT:FALSE
SUMMARY:Bottles and Barrels Ribbon Cutting
DESCRIPTION:Ribbon Cutting at Bottles and Barrels
X-ALT-DESC;FMTTYPE=text/html:Ribbon Cutting at Bottles and Barrels&nbsp\;
LOCATION:5331 S. 204th Ave. Omaha\, NE
UID:e.2427.2671
SEQUENCE:3
DTSTAMP:20260422T074039Z
URL:https://business.gretnachamber.com/events/details/bottles-and-barrels-ribbon-cutting-2671
END:VEVENT

END:VCALENDAR
