BEGIN:VCALENDAR
VERSION:2.0
PRODID:-//ChamberMaster//Event Calendar 2.0//EN
METHOD:PUBLISH
X-PUBLISHED-TTL:P3D
REFRESH-INTERVAL:P3D
CALSCALE:GREGORIAN
BEGIN:VEVENT
DTSTART:20240516T203000Z
DTEND:20240516T223000Z
X-MICROSOFT-CDO-ALLDAYEVENT:FALSE
SUMMARY:Business After Hours with Centris FCU
DESCRIPTION:After hours with Centris Federal Credit Union  \n\nSandwiches from Jimmy Johns\, too!
X-ALT-DESC;FMTTYPE=text/html:After hours with Centris Federal Credit Union&nbsp\;&nbsp\;<br />\n<strong>Sandwiches from Jimmy Johns\, too!&nbsp\; &nbsp\; &nbsp\; &nbsp\; &nbsp\; &nbsp\;</strong>
LOCATION:Centris Federal Credit Union 19431 Polk St Omaha\, NE 68135
UID:e.2427.3245
SEQUENCE:3
DTSTAMP:20260421T130504Z
URL:https://business.gretnachamber.com/events/details/business-after-hours-with-centris-fcu-3245
END:VEVENT

END:VCALENDAR
