BEGIN:VCALENDAR
VERSION:2.0
PRODID:-//ChamberMaster//Event Calendar 2.0//EN
METHOD:PUBLISH
X-PUBLISHED-TTL:P3D
REFRESH-INTERVAL:P3D
CALSCALE:GREGORIAN
BEGIN:VEVENT
DTSTART:20170210T180000Z
DTEND:20170210T193000Z
X-MICROSOFT-CDO-ALLDAYEVENT:FALSE
SUMMARY:Chicago Cubs Trophy Tour
DESCRIPTION:The Cubs Trophy Tour\, presented by State Farm\, is headed to Gretna\, NE\, giving fans the opportunity to see and take photos with the 2016 World Series Trophy Friday\, February 10. "We're excited to share our cherished trophy with fans this offseason\, as we celebrate such a historic World Series Championship\," said Cubs Chairman Tom Ricketts. "We can't wait for our fans to experience the joy of seeing this piece of history in person." The tour has been planned to share the World Series Trophy with Cubs fans throughout Chicagoland and the Midwest. The first 500 fans will receive a wristband to ensure their ability to see the trophy. Additional fans will be accommodated if time permits.
X-ALT-DESC;FMTTYPE=text/html:The Cubs Trophy Tour\, presented by State Farm\, is headed to Gretna\, NE\, giving fans the opportunity to see and take photos with the 2016 World Series Trophy Friday\, February 10. &quot\;We&#39\;re excited to share our cherished trophy with fans this offseason\, as we celebrate such a historic World Series Championship\,&quot\; said Cubs Chairman Tom Ricketts. &quot\;We can&#39\;t wait for our fans to experience the joy of seeing this piece of history in person.&quot\; The tour has been planned to share the World Series Trophy with Cubs fans throughout Chicagoland and the Midwest. The first 500 fans will receive a wristband to ensure their ability to see the trophy. Additional fans will be accommodated if time permits.
LOCATION:Under Armour\, Nebraska Crossing Outlets 21209 Nebraska Crossing Drive Gretna\, NE 68028
UID:e.2427.1371
SEQUENCE:3
DTSTAMP:20260422T115847Z
URL:https://business.gretnachamber.com/events/details/chicago-cubs-trophy-tour-1371
END:VEVENT

END:VCALENDAR
