BEGIN:VCALENDAR
VERSION:2.0
PRODID:-//ChamberMaster//Event Calendar 2.0//EN
METHOD:PUBLISH
X-PUBLISHED-TTL:P3D
REFRESH-INTERVAL:P3D
CALSCALE:GREGORIAN
BEGIN:VEVENT
DTSTART:20240619T200000Z
DTEND:20240619T210000Z
X-MICROSOFT-CDO-ALLDAYEVENT:FALSE
SUMMARY:Chili Dawg's Foods of Fire - Ribbon Cutting
DESCRIPTION:Let's give Chili Dawg's a warm Gretna Welcome and join Chili Dawg's Foods of Fire for their Ribbon Cutting.\n\nChili Dawg's is a Specialty food store targeting BBQ seasonings\, rubs and sauces\, we manufacture Top Dog Salsa in addition to 12 award winning Habanero based pepper spreads.
X-ALT-DESC;FMTTYPE=text/html:<span style="font-size:16px\;">Let&#39\;s give Chili Dawg&#39\;s a warm Gretna Welcome and join&nbsp\;<span style="color: rgb(34\, 34\, 34)\; font-family: Arial\, Helvetica\, sans-serif\;">Chili Dawg&#39\;s Foods of Fire for their Ribbon Cutting.<br />\nChili Dawg&#39\;s is a&nbsp\;</span><span style="color: rgb(102\, 102\, 102)\; font-family: Arial\, Helvetica\, sans-serif\; background-color: rgb(243\, 243\, 243)\;">Specialty food store targeting BBQ seasonings\, rubs and sauces\, we manufacture Top Dog Salsa in addition to 12 award winning Habanero based pepper spreads.&nbsp\;</span></span>
LOCATION:11844 Standing Stone Drive Ste #400 Gretna\, NE 68028
UID:e.2427.3256
SEQUENCE:3
DTSTAMP:20260421T100742Z
URL:https://business.gretnachamber.com/events/details/chili-dawg-s-foods-of-fire-ribbon-cutting-3256
END:VEVENT

END:VCALENDAR
