BEGIN:VCALENDAR
VERSION:2.0
PRODID:-//ChamberMaster//Event Calendar 2.0//EN
METHOD:PUBLISH
X-PUBLISHED-TTL:P3D
REFRESH-INTERVAL:P3D
CALSCALE:GREGORIAN
BEGIN:VEVENT
DTSTART:20231213T230000Z
DTEND:20231214T030000Z
X-MICROSOFT-CDO-ALLDAYEVENT:FALSE
SUMMARY:Coach Feeken Benefit
DESCRIPTION:Benefit for Coach Feeken and his family.\n\nCoach is in the hospital\, fighting cancer.  His wife\, Jenny has taken a leave from work to care for Brad and their children.
X-ALT-DESC;FMTTYPE=text/html:<span style="font-size:14px\;">Benefit for Coach Feeken and his family.<br />\nCoach is in the hospital\, fighting cancer.&nbsp\; His wife\, Jenny has taken a leave from work to care for Brad and their children.</span>
LOCATION:Heavy Brewing 20333 Patton St. Gretna\, NE
UID:e.2427.3226
SEQUENCE:3
DTSTAMP:20260421T211937Z
URL:https://business.gretnachamber.com/events/details/coach-feeken-benefit-3226
END:VEVENT

END:VCALENDAR
