BEGIN:VCALENDAR
VERSION:2.0
PRODID:-//ChamberMaster//Event Calendar 2.0//EN
METHOD:PUBLISH
X-PUBLISHED-TTL:P3D
REFRESH-INTERVAL:P3D
CALSCALE:GREGORIAN
BEGIN:VEVENT
DTSTART:20170314T123000Z
DTEND:20170314T140000Z
X-MICROSOFT-CDO-ALLDAYEVENT:FALSE
SUMMARY:Coffee and Connections: March Madness with Gretna Insurance Agency
DESCRIPTION:Join us for Coffee\, Networking\, and March Madness at Gretna Insurance!\n\n\n\nBrackets will be available after Selection Sunday.
X-ALT-DESC;FMTTYPE=text/html:Join us for Coffee\, Networking\, and March Madness at Gretna Insurance!<br />\n<br />\nBrackets will be available after Selection Sunday.
LOCATION:Gretna Insurance Agency 802 Village Square Gretna\, NE 68028
UID:e.2427.1369
SEQUENCE:3
DTSTAMP:20260422T105426Z
URL:https://business.gretnachamber.com/events/details/coffee-and-connections-march-madness-with-gretna-insurance-agency-1369
END:VEVENT

END:VCALENDAR
