BEGIN:VCALENDAR
VERSION:2.0
PRODID:-//ChamberMaster//Event Calendar 2.0//EN
METHOD:PUBLISH
X-PUBLISHED-TTL:P3D
REFRESH-INTERVAL:P3D
CALSCALE:GREGORIAN
BEGIN:VEVENT
DTSTART:20170216T133000Z
DTEND:20170216T150000Z
X-MICROSOFT-CDO-ALLDAYEVENT:FALSE
SUMMARY:Coffee and Connections: Meet the new Board and City Council Members
DESCRIPTION:Meet & Greet!  \n\n\n\nJump start your morning!  Join us for networking with your 2017 Chamber Board of Directors\, plus new city council members Angie Lauritsen and Logan Herring.
X-ALT-DESC;FMTTYPE=text/html:Meet &amp\; Greet! &nbsp\;<br />\n<br />\nJump start your morning! &nbsp\;Join us for networking with your 2017 Chamber Board of Directors\, plus new city council members Angie Lauritsen and Logan Herring.
LOCATION:Avenue 204 at Royal View 10816 S. 204th Street Gretna\, NE 68028
UID:e.2427.1367
SEQUENCE:3
DTSTAMP:20260422T134422Z
URL:https://business.gretnachamber.com/events/details/coffee-and-connections-meet-the-new-board-and-city-council-members-1367
END:VEVENT

END:VCALENDAR
