BEGIN:VCALENDAR
VERSION:2.0
PRODID:-//ChamberMaster//Event Calendar 2.0//EN
METHOD:PUBLISH
X-PUBLISHED-TTL:P3D
REFRESH-INTERVAL:P3D
CALSCALE:GREGORIAN
BEGIN:VEVENT
DTSTART:20161207T133000Z
DTEND:20161207T150000Z
X-MICROSOFT-CDO-ALLDAYEVENT:FALSE
SUMMARY:Coffee and Connections: Sun Valley Gardens
DESCRIPTION:Come network and pick up your Holiday poinsettias!
X-ALT-DESC;FMTTYPE=text/html:Come network and pick up your Holiday poinsettias!
LOCATION:Sun Valley Gardens Greenhouse 11345 S. 216th Street Gretna\, NE 68028
UID:e.2427.885
SEQUENCE:3
DTSTAMP:20260422T152011Z
URL:https://business.gretnachamber.com/events/details/coffee-and-connections-sun-valley-gardens-12-07-2016-885
END:VEVENT

END:VCALENDAR
