BEGIN:VCALENDAR
VERSION:2.0
PRODID:-//ChamberMaster//Event Calendar 2.0//EN
METHOD:PUBLISH
X-PUBLISHED-TTL:P3D
REFRESH-INTERVAL:P3D
CALSCALE:GREGORIAN
BEGIN:VEVENT
DTSTART:20240411T123000Z
DTEND:20240411T140000Z
X-MICROSOFT-CDO-ALLDAYEVENT:FALSE
SUMMARY:Coffee & Connections Amigos!
DESCRIPTION:Coffee & Connections with your Amigos at Amigos!!\n\nEnjoy a breakfast bowl bar and Kopeli coffee!
X-ALT-DESC;FMTTYPE=text/html:<span style="font-size:16px\;">Coffee &amp\; Connections with your Amigos at Amigos!!<br />\nEnjoy a breakfast bowl bar and Kopeli coffee!</span>
LOCATION:Amigos 11855 S. 216th St. Gretna\, NE
UID:e.2427.3240
SEQUENCE:3
DTSTAMP:20260421T160618Z
URL:https://business.gretnachamber.com/events/details/coffee-connections-amigos-3240
END:VEVENT

END:VCALENDAR
