BEGIN:VCALENDAR
VERSION:2.0
PRODID:-//ChamberMaster//Event Calendar 2.0//EN
METHOD:PUBLISH
X-PUBLISHED-TTL:P3D
REFRESH-INTERVAL:P3D
CALSCALE:GREGORIAN
BEGIN:VEVENT
DTSTART:20231005T130000Z
DTEND:20231005T140000Z
X-MICROSOFT-CDO-ALLDAYEVENT:FALSE
SUMMARY:Coffee & Connections - Gretna Community Foundation
DESCRIPTION:The Gretna Community Foundation Board of Directors wishes to cordially invite those in your organization and others you may know\, who are interested in learning more about opportunities with the Gretna Community Foundation.\n\n\n\nValuing your time\, we will pack a lot of information into this one-hour session including:\n\n  Opportunities for community grants.\n\n  Best practices in managing and maximizing donations to your Gretna Community Foundation fund.\n\n  Information on Midlands Community Foundation's Match Program.\n\n  Networking with community leaders\, community non-profits\, GCF fund holders\, and others interested in improving Gretna.\n\n\n\nLooking forward to seeing you there!
X-ALT-DESC;FMTTYPE=text/html:The Gretna Community Foundation Board of Directors wishes to cordially invite those in your organization and others you may know\, who are interested in learning more about opportunities with the Gretna Community Foundation.<br />\n<br />\nValuing your time\, we will pack a lot of information into this one-hour session including:<br />\n&#9679\; Opportunities for community grants.<br />\n&#9679\; Best practices in managing and maximizing donations to your Gretna Community Foundation fund.<br />\n&#9679\; Information on Midlands Community Foundation&rsquo\;s Match Program.<br />\n&#9679\; Networking with community leaders\, community non-profits\, GCF fund holders\, and others interested in improving Gretna.<br />\n<br />\nLooking forward to seeing you there!
LOCATION:Journey Church Lobby 20020 Hampton Dr Gretna\, NE 68028
UID:e.2427.2698
SEQUENCE:3
DTSTAMP:20260422T005121Z
URL:https://business.gretnachamber.com/events/details/coffee-connections-gretna-community-foundation-2698
END:VEVENT

END:VCALENDAR
