BEGIN:VCALENDAR
VERSION:2.0
PRODID:-//ChamberMaster//Event Calendar 2.0//EN
METHOD:PUBLISH
X-PUBLISHED-TTL:P3D
REFRESH-INTERVAL:P3D
CALSCALE:GREGORIAN
BEGIN:VEVENT
DTSTART:20260402T123000Z
DTEND:20260402T140000Z
X-MICROSOFT-CDO-ALLDAYEVENT:FALSE
SUMMARY:Coffee & Connections: Nebraskaland Wellness Center
DESCRIPTION:Join us for Coffee & Connections and meet Drs. Megan and Colby Howard! Come discover one of Gretna's best-kept secrets\, enjoy coffee and conversations\, and connect with fellow Chamber members while supporting a hidden gem in our community.
X-ALT-DESC;FMTTYPE=text/html:<span class="a_GcMg font-feature-liga-off font-feature-clig-off font-feature-calt-off text-decoration-none text-strikethrough-none" style="color: rgba(0\,0\,0\,var(--O42jJQ\,1))\; caret-color: rgb(0\, 0\, 0)\; --Ys-XuQ: none\; font-kerning: normal\;">Join us for Coffee &amp\; Connections and meet Drs. Megan and Colby Howard!</span><span class="a_GcMg font-feature-liga-off font-feature-clig-off font-feature-calt-off text-decoration-none text-strikethrough-none white-space-prewrap" style="color: rgba(0\,0\,0\,var(--O42jJQ\,1))\; caret-color: rgb(0\, 0\, 0)\; --Ys-XuQ: none\; font-kerning: normal\;"> </span><span class="a_GcMg font-feature-liga-off font-feature-clig-off font-feature-calt-off text-decoration-none text-strikethrough-none" style="color: rgba(0\,0\,0\,var(--O42jJQ\,1))\; caret-color: rgb(0\, 0\, 0)\; --Ys-XuQ: none\; font-kerning: normal\;">Come discover one of Gretna&rsquo\;s best-kept secrets\, enjoy coffee and conversations\, and connect with fellow Chamber members while supporting a hidden gem in our community.</span>
LOCATION:428 Bryan St\, Suite #200 Gretna
UID:e.2427.3961
SEQUENCE:3
DTSTAMP:20260423T223558Z
URL:https://business.gretnachamber.com/events/details/coffee-connections-nebraskaland-wellness-center-3961
END:VEVENT

END:VCALENDAR
