BEGIN:VCALENDAR
VERSION:2.0
PRODID:-//ChamberMaster//Event Calendar 2.0//EN
METHOD:PUBLISH
X-PUBLISHED-TTL:P3D
REFRESH-INTERVAL:P3D
CALSCALE:GREGORIAN
BEGIN:VEVENT
DTSTART;VALUE=DATE:20161119
DTEND;VALUE=DATE:20161203
TRANSP:TRANSPARENT
X-MICROSOFT-CDO-ALLDAYEVENT:TRUE
SUMMARY:Cold Cash Campaign
DESCRIPTION:It's that time of year again! Time for the cold cash campaign! Spend $25 at any Chamber businesses from November 19th through December 2nd for a chance to win some COLD HARD CASH!*\n\n\n\nTo enter drop your receipts into any of the boxes around town: American National Bank\, F&M Bank\, Pinnacle Bank\, Sun Valley Garden\, Gretna Ace Hardware\, Gretna Wine & Spirit\, Gretna Libraries\, and the Gretna Chamber Office.
X-ALT-DESC;FMTTYPE=text/html:<span style="color: rgb(20\, 24\, 35)\; font-family: helvetica\, arial\, sans-serif\; font-size: 14px\; line-height: 18.7600002288818px\;">It&#39\;s that time of year again! Time for the cold cash campaign! Spend $25 at any Chamber businesses from November 19th through December 2nd for a chance to win some COLD HARD CASH!*</span><br style="color: rgb(20\, 24\, 35)\; font-family: helvetica\, arial\, sans-serif\; font-size: 14px\; line-height: 18.7600002288818px\;" />\n<br style="color: rgb(20\, 24\, 35)\; font-family: helvetica\, arial\, sans-serif\; font-size: 14px\; line-height: 18.7600002288818px\;" />\n<span style="color: rgb(20\, 24\, 35)\; font-family: helvetica\, arial\, sans-serif\; font-size: 14px\; line-height: 18.7600002288818px\;">To enter drop your receipts into any of the boxes around town: American National Bank\, F&amp\;M Bank\, Pinnacle Bank\, Sun Valley Garden\, Gretna Ace Hardware\, Gretna Wine &amp\; Spirit\, Gretna Libraries\, and the Gretna Chamber Office.</span>
LOCATION:All Chamber Member Businesses
UID:e.2427.883
SEQUENCE:3
DTSTAMP:20260422T151509Z
URL:https://business.gretnachamber.com/events/details/cold-cash-campaign-11-25-2016-883
END:VEVENT

END:VCALENDAR
