BEGIN:VCALENDAR
VERSION:2.0
PRODID:-//ChamberMaster//Event Calendar 2.0//EN
METHOD:PUBLISH
X-PUBLISHED-TTL:P3D
REFRESH-INTERVAL:P3D
CALSCALE:GREGORIAN
BEGIN:VEVENT
DTSTART:20230601T210000Z
DTEND:20230601T220000Z
X-MICROSOFT-CDO-ALLDAYEVENT:FALSE
SUMMARY:Cruizin Cones Ribbon Cutting
DESCRIPTION:IceCream for Gretna!!\n\nJoin us in welcoming Cruizin Cones and all of their 80+ flavors of ice cream!\n\nThey will have refreshments\, raffles and of course\, ICE CREAM!
X-ALT-DESC;FMTTYPE=text/html:<strong>IceCream for Gretna!!</strong><br />\nJoin us in welcoming Cruizin Cones and all of their 80+ flavors of ice cream!<br />\nThey will have refreshments\, raffles and of course\, ICE CREAM!
LOCATION:Cruizin Cones 11821 S. 216th St. Gretna\, NE
UID:e.2427.2663
SEQUENCE:3
DTSTAMP:20260422T074218Z
URL:https://business.gretnachamber.com/events/details/cruizin-cones-ribbon-cutting-2663
END:VEVENT

END:VCALENDAR
