BEGIN:VCALENDAR
VERSION:2.0
PRODID:-//ChamberMaster//Event Calendar 2.0//EN
METHOD:PUBLISH
X-PUBLISHED-TTL:P3D
REFRESH-INTERVAL:P3D
CALSCALE:GREGORIAN
BEGIN:VEVENT
DTSTART:20230812T140000Z
DTEND:20230812T160000Z
X-MICROSOFT-CDO-ALLDAYEVENT:FALSE
SUMMARY:Cruizin Kidz Market Aug. 2023
DESCRIPTION:Calling all young entrepreneurs!!\n\n\n\nLike to build stuff? Like to bake stuff? Enjoy crafting?\n\n\n\nCome sell your items at the 1st Annual Cruzin Kidz Market. Sell anything you'd like. \n\n\n\nBring your own table & decorate your booth space. Use the Chamber's 2023 'Beach Bash' theme as your inspiration!!
X-ALT-DESC;FMTTYPE=text/html:<span style="font-size:24px\;"><strong>Calling all young entrepreneurs!!</strong></span><br />\n<br />\nLike to build stuff? Like to bake stuff? Enjoy crafting?<br />\n<br />\nCome sell your items at the <strong><span style="font-size:14px\;">1st Annual Cruzin Kidz Market</span></strong>. Sell anything you&#39\;d like.&nbsp\;<br />\n<br />\nBring your own table &amp\; decorate your booth space. Use the Chamber&#39\;s 2023 &#39\;Beach Bash&#39\; theme as your inspiration!!
LOCATION:South west corner of Hwy 6 & Schramm Rd. Gretna\, NE 68028. Look for the yellow Cruizin Cones trailer.
UID:e.2427.2673
SEQUENCE:3
DTSTAMP:20260422T032627Z
URL:https://business.gretnachamber.com/events/details/cruizin-kidz-market-aug-2023-2673
END:VEVENT

END:VCALENDAR
