BEGIN:VCALENDAR
VERSION:2.0
PRODID:-//ChamberMaster//Event Calendar 2.0//EN
METHOD:PUBLISH
X-PUBLISHED-TTL:P3D
REFRESH-INTERVAL:P3D
CALSCALE:GREGORIAN
BEGIN:VEVENT
DTSTART:20231202T150000Z
DTEND:20231202T170000Z
X-MICROSOFT-CDO-ALLDAYEVENT:FALSE
SUMMARY:Cruizin Kidz Market DEC. 2023
DESCRIPTION:BACK BY POPULAR DEMAND!\n\nCalling all young entrepreneurs!!\n\n\n\nLike to build stuff? Like to bake stuff? Enjoy crafting?\n\n\n\nCome sell your items at the Chamber's winter Cruzin Kidz Market. Sell anything you'd like. \n\n\n\nBring your own table & decorate your booth space. Think Holiday Celebration as your inspiration!
X-ALT-DESC;FMTTYPE=text/html:<span style="font-size:24px\;"><strong><span style="color:#0099ff\;"><em>BACK BY POPULAR DEMAND!</em></span><br />\nCalling all young entrepreneurs!!</strong></span><br />\n<br />\nLike to build stuff? Like to bake stuff? Enjoy crafting?<br />\n<br />\nCome sell your items at the <strong><span style="font-size:14px\;">Chamber&#39\;s winter Cruzin Kidz Market</span></strong>. Sell anything you&#39\;d like.&nbsp\;<br />\n<br />\nBring your own table &amp\; decorate your booth space. Think Holiday Celebration as your inspiration!
LOCATION:Journey Church 20020 Hampton Dr. Gretna\, NE
UID:e.2427.3221
SEQUENCE:3
DTSTAMP:20260421T185704Z
URL:https://business.gretnachamber.com/events/details/cruizin-kidz-market-dec-2023-3221
END:VEVENT

END:VCALENDAR
