BEGIN:VCALENDAR
VERSION:2.0
PRODID:-//ChamberMaster//Event Calendar 2.0//EN
METHOD:PUBLISH
X-PUBLISHED-TTL:P3D
REFRESH-INTERVAL:P3D
CALSCALE:GREGORIAN
BEGIN:VEVENT
DTSTART:20240621T200000Z
DTEND:20240621T220000Z
X-MICROSOFT-CDO-ALLDAYEVENT:FALSE
SUMMARY:Dean Snyder Construction - Ribbon Cutting & Open House
DESCRIPTION:Join us in welcoming our new Chamber Member with a Ribbon Cutting and Open House
X-ALT-DESC;FMTTYPE=text/html:Join us in welcoming our new Chamber Member with a Ribbon Cutting and Open House&nbsp\;&nbsp\;&nbsp\;&nbsp\;&nbsp\;
LOCATION:15102 S 231st St Gretna\, NE 68028
UID:e.2427.3261
SEQUENCE:3
DTSTAMP:20260421T114346Z
URL:https://business.gretnachamber.com/events/details/dean-snyder-construction-ribbon-cutting-open-house-3261
END:VEVENT

END:VCALENDAR
