BEGIN:VCALENDAR
VERSION:2.0
PRODID:-//ChamberMaster//Event Calendar 2.0//EN
METHOD:PUBLISH
X-PUBLISHED-TTL:P3D
REFRESH-INTERVAL:P3D
CALSCALE:GREGORIAN
BEGIN:VEVENT
DTSTART:20230914T173000Z
DTEND:20230914T190000Z
X-MICROSOFT-CDO-ALLDAYEVENT:FALSE
SUMMARY:Dragon Wok Express - Ribbon Cutting & Open House
DESCRIPTION:Enjoy samples from Dragon Wok\, then support them by purchasing lunch!\n\n\n\nJoin us at Dragon Wok Express on Thursday\, September 14 from 12:30-2. \n\nRibbon cutting at 12:30 p.m. with an open house to follow. \n\nFood samples... Win one of 3 $25 gift cards
X-ALT-DESC;FMTTYPE=text/html:<p style="color: rgb(0\, 0\, 0)\; font-family: Verdana\, Arial\, Helvetica\, sans-serif\; font-size: 14px\;"><strong><span style="font-size:28px\;">Enjoy samples from Dragon Wok\, then support them by purchasing lunch!</span></strong><br />\n<br />\nJoin us at Dragon Wok Express on Thursday\, September 14 from 12:30-2.&nbsp\;</p>\n\n<p style="color: rgb(0\, 0\, 0)\; font-family: Verdana\, Arial\, Helvetica\, sans-serif\; font-size: 14px\;">Ribbon cutting at 12:30 p.m. with an open house to follow.&nbsp\;</p>\n\n<p style="color: rgb(0\, 0\, 0)\; font-family: Verdana\, Arial\, Helvetica\, sans-serif\; font-size: 14px\;"><span style="font-size:18px\;"><span style="font-size:22px\;"><strong><span style="font-family:comic sans ms\;">Food samples...</span></strong></span>&nbsp\;Win one of 3 $25 gift cards</span></p>\n
LOCATION:Dragon Wok Express Nebraska Crossing 21275 Nebraska Crossing Drive\, Gretna\, NE 68028
UID:e.2427.2695
SEQUENCE:3
DTSTAMP:20260422T023733Z
URL:https://business.gretnachamber.com/events/details/dragon-wok-express-ribbon-cutting-open-house-2695
END:VEVENT

END:VCALENDAR
