BEGIN:VCALENDAR
VERSION:2.0
PRODID:-//ChamberMaster//Event Calendar 2.0//EN
METHOD:PUBLISH
X-PUBLISHED-TTL:P3D
REFRESH-INTERVAL:P3D
CALSCALE:GREGORIAN
BEGIN:VEVENT
DTSTART:20170227T180000Z
DTEND:20170227T190000Z
X-MICROSOFT-CDO-ALLDAYEVENT:FALSE
SUMMARY:Events Committee Meeting (Additional)
DESCRIPTION:2017 Business Fair Planning.\n\n\n\nLunch not provided - please feel free to bring your own!
X-ALT-DESC;FMTTYPE=text/html:2017 Business Fair Planning.<br>\n<br>\nLunch not provided - please feel free to bring your own!
LOCATION:Chamber Office Board Room 798 Village Square Gretna\, NE 68028
UID:e.2427.1516
SEQUENCE:3
DTSTAMP:20260422T115928Z
URL:https://business.gretnachamber.com/events/details/events-committee-meeting-additional-1516
END:VEVENT

END:VCALENDAR
