BEGIN:VCALENDAR
VERSION:2.0
PRODID:-//ChamberMaster//Event Calendar 2.0//EN
METHOD:PUBLISH
X-PUBLISHED-TTL:P3D
REFRESH-INTERVAL:P3D
CALSCALE:GREGORIAN
BEGIN:VEVENT
DTSTART:20240118T223000Z
DTEND:20240118T233000Z
X-MICROSOFT-CDO-ALLDAYEVENT:FALSE
SUMMARY:Flooring NuVo - Ribbon Cutting
DESCRIPTION:Join us in welcoming Flooring NuVo with a Ribbon Cutting event just for our Gretna Chamber Members!\n\nHors d'oeuvres and cocktails provided!
X-ALT-DESC;FMTTYPE=text/html:<span style="color:#006400\;"><strong style="color: rgb(0\, 0\, 205)\;"><span style="font-size:16px\;">Join us in welcoming Flooring NuVo with a Ribbon Cutting event just for our Gretna Chamber Members!</span><br />\n<span style="font-size: 18px\;"><span style="font-size:16px\;">Hors d&#39\;oeuvres and cocktails provided!&nbsp\;&nbsp\;</span></span></strong></span><br />\n&nbsp\;
LOCATION:20005 Husker Drive\, Suite 6 Gretna\, NE 68028
UID:e.2427.3229
SEQUENCE:3
DTSTAMP:20260421T193658Z
URL:https://business.gretnachamber.com/events/details/flooring-nuvo-ribbon-cutting-3229
END:VEVENT

END:VCALENDAR
