BEGIN:VCALENDAR
VERSION:2.0
PRODID:-//ChamberMaster//Event Calendar 2.0//EN
METHOD:PUBLISH
X-PUBLISHED-TTL:P3D
REFRESH-INTERVAL:P3D
CALSCALE:GREGORIAN
BEGIN:VEVENT
DTSTART:20260425T220000Z
DTEND:20260426T030000Z
X-MICROSOFT-CDO-ALLDAYEVENT:FALSE
SUMMARY:Gretna American Legion Auxillary Celebrates 100 Years
DESCRIPTION:The Gretna Unit 216 is turning 100 years strong\, and you're invited to be part of the celebration!  \n\n\n\nCome out for an evening filled with community pride\, great company\, and a chance to honor a century of service and impact. Whether you're a longtime supporter or new to the Legion\, this is a celebration you won't want to miss.\n\n\n\n   Let's come together to celebrate the past\, present\, and future of this incredible organization!
X-ALT-DESC;FMTTYPE=text/html:<div data-block="true" data-editor="agoqo" data-offset-key="8du9c-0-0" style="font-family: &quot\;Optimistic 95&quot\;\, system-ui\, sans-serif\; color: rgb(28\, 43\, 51)\; font-size: 14px\; white-space: pre-wrap\; background-color: rgb(255\, 255\, 255)\; animation-name: none !important\; transition-property: none !important\;">\n<div class="_1mf _1mj" data-offset-key="8du9c-0-0" style="position: relative\; direction: ltr\; font-family: inherit\; animation-name: none !important\; transition-property: none !important\;"><span data-offset-key="8du9c-0-0" style="animation-name: none !important\; transition-property: none !important\; font-family: inherit\;">The </span><span class="_247o" data-offset-key="8du9c-1-0" spellcheck="false" style="background-color: rgba(24\, 119\, 242\, 0.2)\; animation-name: none !important\; transition-property: none !important\; font-family: inherit\;"><span data-offset-key="8du9c-1-0" style="animation-name: none !important\; transition-property: none !important\; font-family: inherit\;">Gretna Unit 216 </span></span><span data-offset-key="8du9c-2-0" style="animation-name: none !important\; transition-property: none !important\; font-family: inherit\;">is turning 100 years strong\, and you&rsquo\;re invited to be part of the celebration! &#127881\;</span></div>\n</div>\n\n<div data-block="true" data-editor="agoqo" data-offset-key="912td-0-0" style="font-family: &quot\;Optimistic 95&quot\;\, system-ui\, sans-serif\; color: rgb(28\, 43\, 51)\; font-size: 14px\; white-space: pre-wrap\; background-color: rgb(255\, 255\, 255)\; animation-name: none !important\; transition-property: none !important\;">\n<div class="_1mf _1mj" data-offset-key="912td-0-0" style="position: relative\; direction: ltr\; font-family: inherit\; animation-name: none !important\; transition-property: none !important\;"><span data-offset-key="5q1p-0-0" style="animation-name: none !important\; transition-property: none !important\; font-family: inherit\;">Come out for an evening filled with community pride\, great company\, and a chance to honor a century of service and impact. Whether you&rsquo\;re a longtime supporter or new to the Legion\, this is a celebration you won&rsquo\;t want to miss.</span></div>\n</div>\n\n<div data-block="true" data-editor="agoqo" data-offset-key="3suro-0-0" style="font-family: &quot\;Optimistic 95&quot\;\, system-ui\, sans-serif\; color: rgb(28\, 43\, 51)\; font-size: 14px\; white-space: pre-wrap\; background-color: rgb(255\, 255\, 255)\; animation-name: none !important\; transition-property: none !important\;">\n<div class="_1mf _1mj" data-offset-key="3suro-0-0" style="position: relative\; direction: ltr\; font-family: inherit\; animation-name: none !important\; transition-property: none !important\;"><span data-offset-key="adsj7-0-0" style="animation-name: none !important\; transition-property: none !important\; font-family: inherit\;">&#127894\;&#65039\; Let&rsquo\;s come together to celebrate the past\, present\, and future of this incredible organization!</span></div>\n</div>\n
LOCATION:Gretna American Legion - Post 216
UID:e.2427.4002
SEQUENCE:3
DTSTAMP:20260420T172908Z
URL:https://business.gretnachamber.com/events/details/gretna-american-legion-auxillary-celebrates-100-years-4002
END:VEVENT

END:VCALENDAR
