BEGIN:VCALENDAR
VERSION:2.0
PRODID:-//ChamberMaster//Event Calendar 2.0//EN
METHOD:PUBLISH
X-PUBLISHED-TTL:P3D
REFRESH-INTERVAL:P3D
CALSCALE:GREGORIAN
BEGIN:VEVENT
DTSTART:20230916T150000Z
DTEND:20230916T210000Z
X-MICROSOFT-CDO-ALLDAYEVENT:FALSE
SUMMARY:Gretna Crossing Park -GXP- Grand Opening
DESCRIPTION:The GRAND OPENING of Gretna's much anticipated GXP and Gretna YMCA!\n\nVisit the Gretna Chamber booth to pick up your free kite or bubbles or sidewalk chalk while supplies last!
X-ALT-DESC;FMTTYPE=text/html:The GRAND OPENING of Gretna&#39\;s much anticipated GXP and Gretna YMCA!<br />\n<strong><span style="color:#006400\;"><span style="font-size:16px\;">Visit the Gretna Chamber booth to pick up your free kite or bubbles or sidewalk chalk while supplies last!</span></span></strong>
LOCATION:21280 Capehart Rd. Gretna\, NE Enter from Hwy 6 and Capehart Rd.
UID:e.2427.2697
SEQUENCE:3
DTSTAMP:20260422T035210Z
URL:https://business.gretnachamber.com/events/details/gretna-crossing-park-gxp-grand-opening-2697
END:VEVENT

END:VCALENDAR
