BEGIN:VCALENDAR
VERSION:2.0
PRODID:-//ChamberMaster//Event Calendar 2.0//EN
METHOD:PUBLISH
X-PUBLISHED-TTL:P3D
REFRESH-INTERVAL:P3D
CALSCALE:GREGORIAN
BEGIN:VEVENT
DTSTART:20230726T220000Z
DTEND:20230727T000000Z
X-MICROSOFT-CDO-ALLDAYEVENT:FALSE
SUMMARY:Gretna Days Clydesdale Kickoff
DESCRIPTION:The Gretna Chamber Area of Commerce is pleased to announce a kickoff event to this year's Gretna Days celebration!!!\n\n\n\nJoin us on Wednesday\, July 26th from 5 pm - 7 pm at St. Patrick's Church south parking lot and meet a Clydesdale horse. Take a photo with Clyde.\n\n\n\nBring your lawn chairs and hang out. Beer & Root Beer is available. Kona Ice will be there also. \n\n\n\nThanks to our friends at Gretna Wine & Spirits\, BCS Lawn & Landscape and Budweiser.
X-ALT-DESC;FMTTYPE=text/html:<br />\n<span style="font-size:16px\;"><strong><span style="color: rgb(102\, 102\, 102)\; font-family: Raleway\, sans-serif\; background-color: rgb(243\, 243\, 243)\;">The Gretna Chamber Area of Commerce is pleased to announce a kickoff event to this year&#39\;s Gretna Days celebration!!!</span></strong></span><br style="box-sizing: border-box\; color: rgb(102\, 102\, 102)\; font-family: Raleway\, sans-serif\; font-size: 15px\; background-color: rgb(243\, 243\, 243)\;" />\n<br style="box-sizing: border-box\; color: rgb(102\, 102\, 102)\; font-family: Raleway\, sans-serif\; font-size: 15px\; background-color: rgb(243\, 243\, 243)\;" />\n<span style="color: rgb(102\, 102\, 102)\; font-family: Raleway\, sans-serif\; font-size: 15px\; background-color: rgb(243\, 243\, 243)\;">Join us on Wednesday\, July 26th from 5 pm - 7 pm at St. Patrick&#39\;s Church south parking lot and meet a Clydesdale horse. Take a photo with Clyde.</span><br style="box-sizing: border-box\; color: rgb(102\, 102\, 102)\; font-family: Raleway\, sans-serif\; font-size: 15px\; background-color: rgb(243\, 243\, 243)\;" />\n<br style="box-sizing: border-box\; color: rgb(102\, 102\, 102)\; font-family: Raleway\, sans-serif\; font-size: 15px\; background-color: rgb(243\, 243\, 243)\;" />\n<span style="color: rgb(102\, 102\, 102)\; font-family: Raleway\, sans-serif\; font-size: 15px\; background-color: rgb(243\, 243\, 243)\;">Bring your lawn chairs and hang out. Beer &amp\; Root Beer is available. Kona Ice will be there also.&nbsp\;</span><br style="box-sizing: border-box\; color: rgb(102\, 102\, 102)\; font-family: Raleway\, sans-serif\; font-size: 15px\; background-color: rgb(243\, 243\, 243)\;" />\n<br style="box-sizing: border-box\; color: rgb(102\, 102\, 102)\; font-family: Raleway\, sans-serif\; font-size: 15px\; background-color: rgb(243\, 243\, 243)\;" />\n<span style="font-size:16px\;"><em><span style="color:#006400\;"><strong><span style="font-family: Raleway\, sans-serif\; background-color: rgb(243\, 243\, 243)\;">Thanks to our friends at Gretna Wine &amp\; Spirits\, BCS Lawn &amp\; Landscape and Budweiser.&nbsp\;</span></strong></span></em></span>
LOCATION:508 Angus St.
UID:e.2427.2676
SEQUENCE:3
DTSTAMP:20260422T061521Z
URL:https://business.gretnachamber.com/events/details/gretna-days-clydesdale-kickoff-2676
END:VEVENT

END:VCALENDAR
