BEGIN:VCALENDAR
VERSION:2.0
PRODID:-//ChamberMaster//Event Calendar 2.0//EN
METHOD:PUBLISH
X-PUBLISHED-TTL:P3D
REFRESH-INTERVAL:P3D
CALSCALE:GREGORIAN
BEGIN:VEVENT
DTSTART:20230729T153000Z
DTEND:20230729T173000Z
X-MICROSOFT-CDO-ALLDAYEVENT:FALSE
SUMMARY:Gretna Days Parade 2023
DESCRIPTION:This year's parade theme is Beach Bash!!\n\nNEW THIS YEAR:  The community will vote on the 'Theme Winners"!!\n\n\n\nThis year's THEME prizes are:\n\n1st: $100\n\n2nd: $75\n\n3rd: $50\n\n\n\nRegistration Deadline is midnight on July 23rd.
X-ALT-DESC;FMTTYPE=text/html:<p>This year&#39\;s parade theme is <strong><em>Beach Bash!!</em></strong><br />\nNEW THIS YEAR:&nbsp\; The community will vote on the &#39\;Theme Winners&quot\;!!<br />\n<br />\nThis year&#39\;s THEME prizes are:<br />\n1st: $100<br />\n2nd: $75<br />\n3rd: $50<br />\n<br />\n<em><strong><span style="color: rgb(178\, 34\, 34)\;">Registration Deadline is midnight on July 23rd.</span></strong></em><br />\n&nbsp\;</p>\n
LOCATION:Parade Lineup will be at Gretna Middle School. This is the same location as previous years. Lineup time is from 9:00am - 10:30am\, depending on your place in line. Please watch for more information the week prior to the parade. Parade Route: Starts at the Gretna Public Library and follows McKenna Street north to Angus Street east\, ending at the Gretna Public Pool. This is the same route as previous years.
UID:e.2427.2636
SEQUENCE:3
DTSTAMP:20260422T075557Z
URL:https://business.gretnachamber.com/events/details/gretna-days-parade-2023-2636
END:VEVENT

END:VCALENDAR
