BEGIN:VCALENDAR
VERSION:2.0
PRODID:-//ChamberMaster//Event Calendar 2.0//EN
METHOD:PUBLISH
X-PUBLISHED-TTL:P3D
REFRESH-INTERVAL:P3D
CALSCALE:GREGORIAN
BEGIN:VEVENT
DTSTART:20250307T000000Z
DTEND:20250307T030000Z
X-MICROSOFT-CDO-ALLDAYEVENT:FALSE
SUMMARY:Gretna Game Changer Gala
DESCRIPTION:The Gretna Public Schools Foundation is excited to announce our Inaugural Gala\, the Game Changer Gala\, to be held on Thursday\, March 6\, 2025\, at Tiburon. Please save the date!\n\nWe would love to have YOU\, our community partners\, involved with the planning of the event! We have multiple ways to get involved from logistics\, and event program to auction donations and table sales. Let us know if you are able to help!\n\nLet's Change The Game on Mental Health and support the Gretna Public School District's Mental & Behavioral Health Program. \nWe need event sponsors as well as committee members. If you're interested in helping\, please contact ebelew@gpsne.org. Let's change the game around mental and behavioral health!
X-ALT-DESC;FMTTYPE=text/html:<p style="box-sizing: inherit\; margin: 0px 0px 18px\; padding: 0px\; font-family: Merriweather\, serif\; font-size: 16px\; line-height: 1.8\; color: rgb(0\, 0\, 0)\;">The Gretna Public Schools Foundation is excited to announce our&nbsp\;<span style="box-sizing: inherit\; font-weight: 700\; line-height: inherit\;">Inaugural Gala\, the Game Changer Gala\, to be held on Thursday\, March 6\, 2025\, at Tiburon.</span>&nbsp\;Please save the date!</p>\n\n<p style="box-sizing: inherit\; margin: 0px 0px 18px\; padding: 0px\; font-family: Merriweather\, serif\; font-size: 16px\; line-height: 1.8\; color: rgb(0\, 0\, 0)\;"><span style="box-sizing: inherit\; font-weight: 700\; line-height: inherit\;">We would love to have YOU\, our community partners\, involved with the planning of the event!</span>&nbsp\;We have multiple ways to get involved from logistics\, and event program to auction donations and table sales. Let us know if you are able to help!</p>\n\n<p style="box-sizing: inherit\; margin: 0px 0px 18px\; padding: 0px\; font-family: Merriweather\, serif\; font-size: 16px\; line-height: 1.8\; color: rgb(0\, 0\, 0)\;"><i style="box-sizing: inherit\; line-height: inherit\;"><span style="box-sizing: inherit\; font-weight: 700\; line-height: inherit\;">Let&rsquo\;s Change The Game on Mental Health and support the Gretna Public School District&rsquo\;s Mental &amp\; Behavioral Health Program.&nbsp\;</span></i></p>\n<span style="color: rgb(8\, 8\, 9)\; font-family: system-ui\, -apple-system\, &quot\;system-ui&quot\;\, &quot\;.SFNSText-Regular&quot\;\, sans-serif\; font-size: 14px\; white-space-collapse: preserve\;">We need event sponsors as well as committee members. If you&rsquo\;re interested in helping\, please contact ebelew@gpsne.org. Let&#39\;s change the game around mental and behavioral health!</span>
LOCATION:Tiburon Golf Club & Banquet Facility 10302 S 168th St\, Omaha\, NE 68136
UID:e.2427.3556
SEQUENCE:3
DTSTAMP:20260421T100339Z
URL:https://business.gretnachamber.com/events/details/gretna-game-changer-gala-3556
END:VEVENT

END:VCALENDAR
