BEGIN:VCALENDAR
VERSION:2.0
PRODID:-//ChamberMaster//Event Calendar 2.0//EN
METHOD:PUBLISH
X-PUBLISHED-TTL:P3D
REFRESH-INTERVAL:P3D
CALSCALE:GREGORIAN
BEGIN:VEVENT
DTSTART:20250207T230000Z
DTEND:20250208T010000Z
X-MICROSOFT-CDO-ALLDAYEVENT:FALSE
SUMMARY:Gretna Hy-Vee Winter Extravaganza
DESCRIPTION:Join us at your Gretna Hy-Vee on Friday\, February 7th for a night filled with food\, drinks\, & live music! -Live music from acoustic band\, Beaten Path (6:45 - 8:45 p.m.) -Food and drink sampling -Special Valentine's Day floral deals -Big game inspiration
X-ALT-DESC;FMTTYPE=text/html:Join us at your Gretna Hy-Vee on Friday\, February 7th for a night filled with food\, drinks\, &amp\; live music! -Live music from acoustic band\, Beaten Path (6:45 - 8:45 p.m.) -Food and drink sampling -Special Valentine&#39\;s Day floral deals -Big game inspiration
LOCATION:10855 S 191st St\, Gretna\, NE 68136
UID:e.2427.3719
SEQUENCE:3
DTSTAMP:20260421T083633Z
URL:https://business.gretnachamber.com/events/details/gretna-hy-vee-winter-extravaganza-3719
END:VEVENT

END:VCALENDAR
